BEGIN:VCALENDAR
VERSION:2.0
PRODID:-//Lanartea - ECPv5.14.0.2//NONSGML v1.0//EN
CALSCALE:GREGORIAN
METHOD:PUBLISH
X-WR-CALNAME:Lanartea
X-ORIGINAL-URL:https://www.lanartea.eus
X-WR-CALDESC:Events for Lanartea
REFRESH-INTERVAL;VALUE=DURATION:PT1H
X-Robots-Tag:noindex
X-PUBLISHED-TTL:PT1H
BEGIN:VTIMEZONE
TZID:Europe/Madrid
BEGIN:DAYLIGHT
TZOFFSETFROM:+0100
TZOFFSETTO:+0200
TZNAME:CEST
DTSTART:20210328T010000
END:DAYLIGHT
BEGIN:STANDARD
TZOFFSETFROM:+0200
TZOFFSETTO:+0100
TZNAME:CET
DTSTART:20211031T010000
END:STANDARD
END:VTIMEZONE
BEGIN:VEVENT
DTSTART;TZID=Europe/Madrid:20211112T220000
DTEND;TZID=Europe/Madrid:20211112T235900
DTSTAMP:20260419T171137
CREATED:20211104T203433Z
LAST-MODIFIED:20211112T145903Z
UID:1412-1636754400-1636761540@www.lanartea.eus
SUMMARY:Ibil Bedi + Joseba Irazoki eta Lagunak.
DESCRIPTION:Kontzertua
URL:https://www.lanartea.eus/agenda/ibil-bedi-joseba-irazoki-eta-lagunak/
LOCATION:Botika Xaharra (Segura)
CATEGORIES:kontzertua
END:VEVENT
BEGIN:VEVENT
DTSTART;TZID=Europe/Madrid:20211112T200000
DTEND;TZID=Europe/Madrid:20211112T223000
DTSTAMP:20260419T171137
CREATED:20211104T203313Z
LAST-MODIFIED:20211105T071936Z
UID:1409-1636747200-1636756200@www.lanartea.eus
SUMMARY:Chill Mafia + Haizeatxo_Ningra_34º
DESCRIPTION:Kontzertua \nChill Mafia + Haizeatxo_Ningra_34º \nNoiz: 20:00-22:30. \nNon: Sanagustin kulturgunea (Azpeitia)
URL:https://www.lanartea.eus/agenda/chill-mafia-haizeatxo_ningra_34o/
LOCATION:Sanagustin kulturgunea (Azpeitia)
CATEGORIES:kontzertua
END:VEVENT
BEGIN:VEVENT
DTSTART;TZID=Europe/Madrid:20211112T200000
DTEND;TZID=Europe/Madrid:20211112T210000
DTSTAMP:20260419T171137
CREATED:20211104T203059Z
LAST-MODIFIED:20211105T071933Z
UID:1406-1636747200-1636750800@www.lanartea.eus
SUMMARY:Korrontzi
DESCRIPTION:Kontzertua \nKorrontzi. \nNoiz: 20:00-21:00. \nNon: Klaret Antzokia (Balmaseda).
URL:https://www.lanartea.eus/agenda/korrontzi/
LOCATION:Klaret Antzokia (Balmaseda)
CATEGORIES:kontzertua
END:VEVENT
BEGIN:VEVENT
DTSTART;TZID=Europe/Madrid:20211112T200000
DTEND;TZID=Europe/Madrid:20211112T210000
DTSTAMP:20260419T171137
CREATED:20211104T202957Z
LAST-MODIFIED:20211112T145137Z
UID:1403-1636747200-1636750800@www.lanartea.eus
SUMMARY:Nogen
DESCRIPTION:Kontzertua \nNogen. Zallako antzokian.
URL:https://www.lanartea.eus/agenda/nogen/
LOCATION:Zallako Antzokia
CATEGORIES:kontzertua
ATTACH;FMTTYPE=image/jpeg:https://www.lanartea.eus/wp-content/uploads/2021/11/NogenWeb2.jpg
END:VEVENT
BEGIN:VEVENT
DTSTART;TZID=Europe/Madrid:20211112T193000
DTEND;TZID=Europe/Madrid:20211112T203000
DTSTAMP:20260419T171137
CREATED:20211112T150921Z
LAST-MODIFIED:20211112T150921Z
UID:1584-1636745400-1636749000@www.lanartea.eus
SUMMARY:Uxue Alberdiren 'Dendaostekoak'
DESCRIPTION:Uxue Alberdi Dendaostekoak liburuari buruz solasean arituko da 19:30etik aurrera Martzela Abarzuza eta Itsaso Agirrerekin\, Iruñeko Karrikiri dendan.
URL:https://www.lanartea.eus/agenda/uxue-alberdiren-dendaostekoak/
CATEGORIES:solasaldia
END:VEVENT
BEGIN:VEVENT
DTSTART;TZID=Europe/Madrid:20211112T190000
DTEND;TZID=Europe/Madrid:20211112T203000
DTSTAMP:20260419T171137
CREATED:20211104T202910Z
LAST-MODIFIED:20211112T144356Z
UID:1401-1636743600-1636749000@www.lanartea.eus
SUMMARY:Maitasunaren itxiera
DESCRIPTION:Antzerkia \nMaitasunaren itxiera antzezlanean\, Miren Gaztañagak eta Eneko Sagardoyk pasioz eta gordintasunez eszenaratzen dute bikote baten haustura lazgarria. Pascal Rambert egile eta eszena-zuzendari frantziarraren Clôture de l’amour lanaren euskarazko egokitzapena da Arriaga Antzokiak ekoiztutako lana\, eta Rambert bera da zuzendaria.
URL:https://www.lanartea.eus/agenda/maitasunaren-itxiera/
LOCATION:Soreasu Antzokia (Azpeitia)
CATEGORIES:Antzerkia
ATTACH;FMTTYPE=image/jpeg:https://www.lanartea.eus/wp-content/uploads/2021/11/maitasunaren-itxiera1.jpg
END:VEVENT
BEGIN:VEVENT
DTSTART;TZID=Europe/Madrid:20211111T213000
DTEND;TZID=Europe/Madrid:20211111T230000
DTSTAMP:20260419T171137
CREATED:20211104T202806Z
LAST-MODIFIED:20211105T071927Z
UID:1399-1636666200-1636671600@www.lanartea.eus
SUMMARY:Mice (taldearekin)
DESCRIPTION:Kontzertua \nMice (taldearekin). \nNoiz: 21:30-23:00. \nNon: Bilboko Kafe Antzokia.
URL:https://www.lanartea.eus/agenda/mice-taldearekin/
LOCATION:Bilboko Kafe Antzokia
CATEGORIES:kontzertua
END:VEVENT
BEGIN:VEVENT
DTSTART;TZID=Europe/Madrid:20211111T200000
DTEND;TZID=Europe/Madrid:20211111T213000
DTSTAMP:20260419T171137
CREATED:20211104T202711Z
LAST-MODIFIED:20211105T071924Z
UID:1396-1636660800-1636666200@www.lanartea.eus
SUMMARY:Niña Coyote eta Chico Tornado
DESCRIPTION:Kontzertua \nNiña Coyote eta Chico Tornado. \nNoiz: 20:00-21:15. \nNon: BBK Aretoa (Bilbo).
URL:https://www.lanartea.eus/agenda/nina-coyote-eta-chico-tornado/
LOCATION:BBK Aretoa (Bilbo)
CATEGORIES:kontzertua
END:VEVENT
BEGIN:VEVENT
DTSTART;TZID=Europe/Madrid:20211111T193000
DTEND;TZID=Europe/Madrid:20211111T203000
DTSTAMP:20260419T171137
CREATED:20211104T202544Z
LAST-MODIFIED:20211105T071922Z
UID:1394-1636659000-1636662600@www.lanartea.eus
SUMMARY:Quorum
DESCRIPTION:Dantza \nQuorum \nHilde Koch eta Dantzaz. \nNoiz: 19:30-20:30. \nNon: Lekuona Fabrika (Errenteria)
URL:https://www.lanartea.eus/agenda/quorum/
LOCATION:: Lekuona Fabrika (Errenteria)
CATEGORIES:Dantza
END:VEVENT
BEGIN:VEVENT
DTSTART;TZID=Europe/Madrid:20211111T193000
DTEND;TZID=Europe/Madrid:20211111T203000
DTSTAMP:20260419T171137
CREATED:20211104T202446Z
LAST-MODIFIED:20211105T071920Z
UID:1391-1636659000-1636662600@www.lanartea.eus
SUMMARY:Hi(ZKI)bridoak
DESCRIPTION:Bertsolaritza \nHi(ZKI)bridoak. \nEli Pagola\, Miren Artetxe eta Jone Uria Albizuri\, Arrate Hidalgo eta Danele Sarriugarte gai-jartzaile direla. \nNoiz: 19:30-20:30. \nNon: Euskararen Etxea (Bilbo).
URL:https://www.lanartea.eus/agenda/hizkibridoak/
LOCATION:Euskararen Etxea (Bilbo)
CATEGORIES:Bertsolaritza
END:VEVENT
BEGIN:VEVENT
DTSTART;TZID=Europe/Madrid:20211111T190000
DTEND;TZID=Europe/Madrid:20211111T203000
DTSTAMP:20260419T171137
CREATED:20211104T202145Z
LAST-MODIFIED:20211105T071918Z
UID:1387-1636657200-1636662600@www.lanartea.eus
SUMMARY:Album
DESCRIPTION:Antzerkia \nAlbum \nFormol Laborategia. \nNoiz: 19:00-20:30. \nNon: Soreasu Antzokia (Azpeitia).
URL:https://www.lanartea.eus/agenda/album/
LOCATION:Soreasu Antzokia (Azpeitia)
CATEGORIES:Antzerkia
END:VEVENT
BEGIN:VEVENT
DTSTART;TZID=Europe/Madrid:20211111T190000
DTEND;TZID=Europe/Madrid:20211111T200000
DTSTAMP:20260419T171137
CREATED:20211104T202238Z
LAST-MODIFIED:20211105T071431Z
UID:1389-1636657200-1636660800@www.lanartea.eus
SUMMARY:Odolekoak
DESCRIPTION:Solasaldia\nOdolekoak.\nAntxiñe Mendizabal.\nNoiz: 19:00-20:00.\nNon: Intxaurrondoko Kultur Etxea (Donostia).
URL:https://www.lanartea.eus/agenda/odolekoak/
LOCATION:Intxaurrondoko Kultur Etxea (Donostia)
CATEGORIES:solasaldia
END:VEVENT
BEGIN:VEVENT
DTSTART;TZID=Europe/Madrid:20211111T183000
DTEND;TZID=Europe/Madrid:20211111T200000
DTSTAMP:20260419T171137
CREATED:20211104T202012Z
LAST-MODIFIED:20211105T071417Z
UID:1384-1636655400-1636660800@www.lanartea.eus
SUMMARY:Haurren aurrean helduok heldu
DESCRIPTION:Hitzaldia\nHaurren aurrean helduok heldu.\nPaula Kasares eta Kike Amonarriz.\nNoiz: 18:30-19:45.\nNon: Hondarribiko Kultur Etxea.
URL:https://www.lanartea.eus/agenda/haurren-aurrean-helduok-heldu/
LOCATION:Hondarribiko Kultur Etxea
CATEGORIES:Hitzaldia
END:VEVENT
BEGIN:VEVENT
DTSTART;TZID=Europe/Madrid:20211111T110000
DTEND;TZID=Europe/Madrid:20211111T153000
DTSTAMP:20260419T171137
CREATED:20211104T201855Z
LAST-MODIFIED:20211105T071408Z
UID:1381-1636628400-1636644600@www.lanartea.eus
SUMMARY:Martin Ugalderen lanen irakurketa publikoa\, haren jaiotzaren mendeurren egunean
DESCRIPTION:Omenaldia\nMartin Ugalderen lanen irakurketa publikoa\, haren jaiotzaren mendeurren egunean.\nNoiz: 11:00-15:30.\nNon: Martin Ugalde Kultur Parkea (Andoain). \n 
URL:https://www.lanartea.eus/agenda/martin-ugalderen-lanen-irakurketa-publikoa-haren-jaiotzaren-mendeurren-egunean/
LOCATION:Martin Ugalde Kultur Parkea (Andoain)
CATEGORIES:Omenaldia
END:VEVENT
BEGIN:VEVENT
DTSTART;TZID=Europe/Madrid:20211110T193000
DTEND;TZID=Europe/Madrid:20211110T210000
DTSTAMP:20260419T171137
CREATED:20211104T201755Z
LAST-MODIFIED:20211104T201755Z
UID:1378-1636572600-1636578000@www.lanartea.eus
SUMMARY:Fake. Begiari tranpa
DESCRIPTION:Antzerkia \nFake. Begiari tranpa \nDavid Caiña.
URL:https://www.lanartea.eus/agenda/fake-begiari-tranpa/
LOCATION:Arriaga Antzokia (Bilbo)
CATEGORIES:Antzerkia
END:VEVENT
BEGIN:VEVENT
DTSTART;TZID=Europe/Madrid:20211110T193000
DTEND;TZID=Europe/Madrid:20211110T210000
DTSTAMP:20260419T171137
CREATED:20211104T201657Z
LAST-MODIFIED:20211105T071350Z
UID:1376-1636572600-1636578000@www.lanartea.eus
SUMMARY:Urbeltzen Dantza Ganbara
DESCRIPTION:Dantza \nUrbeltzen Dantza Ganbara. \nNoiz: 19:30-21:00. \nNon: Bilboko Kafe Antzokia.
URL:https://www.lanartea.eus/agenda/urbeltzen-dantza-ganbara/
LOCATION:Bilboko Kafe Antzokia
CATEGORIES:Dantza
END:VEVENT
BEGIN:VEVENT
DTSTART;TZID=Europe/Madrid:20211110T190000
DTEND;TZID=Europe/Madrid:20211110T203000
DTSTAMP:20260419T171137
CREATED:20211104T201306Z
LAST-MODIFIED:20211105T071340Z
UID:1368-1636570800-1636576200@www.lanartea.eus
SUMMARY:Rocka eta euskara. Zozoak beleari\, ipurbeltz?
DESCRIPTION:Mahai-ingurua\nRocka eta euskara. Zozoak beleari\, ipurbeltz?\nJosu Zabala\, Garbiñe Ubeda eta Josu Ximun Billelabeitia.\nNoiz: 19:00-20:15.\nNon: Kulturate (Arrasate).
URL:https://www.lanartea.eus/agenda/rocka-eta-euskara-zozoak-beleari-ipurbeltz/
LOCATION:Kulturate (Arrasate)
CATEGORIES:Mahai-ingurua
END:VEVENT
BEGIN:VEVENT
DTSTART;TZID=Europe/Madrid:20211110T190000
DTEND;TZID=Europe/Madrid:20211110T203000
DTSTAMP:20260419T171137
CREATED:20211104T161108Z
LAST-MODIFIED:20211105T071329Z
UID:1366-1636570800-1636576200@www.lanartea.eus
SUMMARY:Esnatu naiz
DESCRIPTION:Antzerkia \nEsnatu naiz \nAndoni Mutiloa. \nNoiz: 19:00-20:30. \nNon: Nafarroako Antzerki Eskola (Iruñea)
URL:https://www.lanartea.eus/agenda/esnatu-naiz/
CATEGORIES:Antzerkia
END:VEVENT
BEGIN:VEVENT
DTSTART;TZID=Europe/Madrid:20211110T190000
DTEND;TZID=Europe/Madrid:20211110T200000
DTSTAMP:20260419T171137
CREATED:20211104T201557Z
LAST-MODIFIED:20211105T071320Z
UID:1373-1636570800-1636574400@www.lanartea.eus
SUMMARY:Miel A. Elustondo idazlearekin
DESCRIPTION:Solasaldia\nMiel A. Elustondo idazlearekin.\nNoiz: 19:00-20:00.\nNon: Iparralde Gizarte Etxea (Gasteiz).
URL:https://www.lanartea.eus/agenda/miel-a-elustondo-idazlearekin/
LOCATION:Iparralde Gizarte Etxea (Gasteiz)
CATEGORIES:solasaldia
END:VEVENT
BEGIN:VEVENT
DTSTART;TZID=Europe/Madrid:20211110T190000
DTEND;TZID=Europe/Madrid:20211110T200000
DTSTAMP:20260419T171137
CREATED:20211104T201441Z
LAST-MODIFIED:20211104T201441Z
UID:1371-1636570800-1636574400@www.lanartea.eus
SUMMARY:80 amandre
DESCRIPTION:Ipuin kontaketa\n80 amandre.\nDorleta Kortazar
URL:https://www.lanartea.eus/agenda/80-amandre/
LOCATION:Oianeder Euskararen Etxea (Gasteiz)
CATEGORIES:Ipuin kontaketa
END:VEVENT
BEGIN:VEVENT
DTSTART;TZID=Europe/Madrid:20211110T183000
DTEND;TZID=Europe/Madrid:20211110T200000
DTSTAMP:20260419T171137
CREATED:20211104T161012Z
LAST-MODIFIED:20211105T071246Z
UID:1363-1636569000-1636574400@www.lanartea.eus
SUMMARY:Euskararen bidegurutzean ... jakin\, egiten jakin\, izaten jakin
DESCRIPTION:Hitzaldia\nEuskararen bidegurutzean … jakin\, egiten jakin\, izaten jakin.\nKike Amonarriz.\nNoiz: 18:30-19:45.\nNon: Oianeder Euskararen Etxea (Gasteiz).
URL:https://www.lanartea.eus/agenda/euskararen-bidegurutzean-jakin-egiten-jakin-izaten-jakin/
LOCATION:Oianeder Euskararen Etxea (Gasteiz)
CATEGORIES:Hitzaldia
END:VEVENT
BEGIN:VEVENT
DTSTART;TZID=Europe/Madrid:20211109T190000
DTEND;TZID=Europe/Madrid:20211109T200000
DTSTAMP:20260419T171137
CREATED:20211104T160852Z
LAST-MODIFIED:20211105T071235Z
UID:1360-1636484400-1636488000@www.lanartea.eus
SUMMARY:Basolatik berri onik ez
DESCRIPTION:Solasaldia\nBasolatik berri onik ez.\nAsisko Urmeneta eta Joseba Larratxe.\nNoiz: 19:00-20:00.\nNon: Intxaurrondoko Kultur Etxea (Donostia).
URL:https://www.lanartea.eus/agenda/basolatik-berri-onik-ez/
LOCATION:Intxaurrondoko Kultur Etxea (Donostia)
CATEGORIES:solasaldia
END:VEVENT
BEGIN:VEVENT
DTSTART;TZID=Europe/Madrid:20211109T180000
DTEND;TZID=Europe/Madrid:20211109T190000
DTSTAMP:20260419T171137
CREATED:20211104T160727Z
LAST-MODIFIED:20211105T071227Z
UID:1357-1636480800-1636484400@www.lanartea.eus
SUMMARY:Kontaidazu beste ipuin bat
DESCRIPTION:Ipuin kontaketa\nKontaidazu beste ipuin bat.\nAne Gebara.\nNoiz: 18:00-19:00.\nNon: Landatxoko Gizarte Etxea (Gasteiz).
URL:https://www.lanartea.eus/agenda/kontaidazu-beste-ipuin-bat/
LOCATION:Landatxoko Gizarte Etxea (Gasteiz)
CATEGORIES:Ipuin kontaketa
END:VEVENT
BEGIN:VEVENT
DTSTART;TZID=Europe/Madrid:20211108T180000
DTEND;TZID=Europe/Madrid:20211108T193000
DTSTAMP:20260419T171137
CREATED:20211104T160625Z
LAST-MODIFIED:20211105T071218Z
UID:1354-1636394400-1636399800@www.lanartea.eus
SUMMARY:Martin Ugalde. Exilioak eta hizkuntzak\, ahulenak gogoan
DESCRIPTION:Hitzaldia\nMartin Ugalde. Exilioak eta hizkuntzak\, ahulenak gogoan.\nAnjel Lertxundi.\nNoiz: 18:00-19:15.\nNon: Donostiako Liburutegi Nagusia.
URL:https://www.lanartea.eus/agenda/martin-ugalde-exilioak-eta-hizkuntzak-ahulenak-gogoan/
LOCATION:Donostiako Liburutegi Nagusia
CATEGORIES:Hitzaldia
END:VEVENT
BEGIN:VEVENT
DTSTART;TZID=Europe/Madrid:20211107T200000
DTEND;TZID=Europe/Madrid:20211107T213000
DTSTAMP:20260419T171137
CREATED:20211104T160531Z
LAST-MODIFIED:20211105T071208Z
UID:1352-1636315200-1636320600@www.lanartea.eus
SUMMARY:Amak
DESCRIPTION:Kontzertua \nAmak. \nNoiz: 20:00-21:30. \nNon: Irurtzungo Herriko Plaza.
URL:https://www.lanartea.eus/agenda/amak/
CATEGORIES:kontzertua
END:VEVENT
BEGIN:VEVENT
DTSTART;TZID=Europe/Madrid:20211107T193000
DTEND;TZID=Europe/Madrid:20211107T200000
DTSTAMP:20260419T171137
CREATED:20211104T160445Z
LAST-MODIFIED:20211105T071156Z
UID:1349-1636313400-1636315200@www.lanartea.eus
SUMMARY:Idi Begi
DESCRIPTION:Dantza \nIdi Begi \nProyecto Larrua. \nNoiz: 19:30-20:00. \nNon: Gurea Antzokia (Villabona)
URL:https://www.lanartea.eus/agenda/idi-begi/
LOCATION:Gurea Antzokia (Villabona)
CATEGORIES:Dantza
END:VEVENT
BEGIN:VEVENT
DTSTART;TZID=Europe/Madrid:20211107T190000
DTEND;TZID=Europe/Madrid:20211107T203000
DTSTAMP:20260419T171137
CREATED:20211104T160355Z
LAST-MODIFIED:20211105T071148Z
UID:1346-1636311600-1636317000@www.lanartea.eus
SUMMARY:Ameriketako bidaia
DESCRIPTION:Antzerkia \nAmeriketako bidaia \nTtanttaka. \nNoiz: 19:00-20:30. \nNon: Abadiñoko Kultur Etxea.
URL:https://www.lanartea.eus/agenda/ameriketako-bidaia-2/
LOCATION:Abadiñoko Kultur Etxea
CATEGORIES:Antzerkia
END:VEVENT
BEGIN:VEVENT
DTSTART;TZID=Europe/Madrid:20211107T190000
DTEND;TZID=Europe/Madrid:20211107T203000
DTSTAMP:20260419T171137
CREATED:20211104T160252Z
LAST-MODIFIED:20211105T071138Z
UID:1343-1636311600-1636317000@www.lanartea.eus
SUMMARY:Ibil Bedi + Physis versus Nomos
DESCRIPTION:Kontzertua \nIbil Bedi + Physis versus Nomos. \nNoiz: 19:00-21:30. \nNon: Beikozini Aretoa (Ondarroa).
URL:https://www.lanartea.eus/agenda/ibil-bedi-physis-versus-nomos-3/
LOCATION:Beikozini Aretoa (Ondarroa)
CATEGORIES:kontzertua
END:VEVENT
BEGIN:VEVENT
DTSTART;TZID=Europe/Madrid:20211107T190000
DTEND;TZID=Europe/Madrid:20211107T203000
DTSTAMP:20260419T171137
CREATED:20211104T160200Z
LAST-MODIFIED:20211105T071130Z
UID:1341-1636311600-1636317000@www.lanartea.eus
SUMMARY:Guateke
DESCRIPTION:Antzerkia \nGuateke \nEromen Produkzioak. \nNoiz: 19:00-20:30. \nNon: Soreasu Antzokia (Azpeitia).
URL:https://www.lanartea.eus/agenda/guateke/
LOCATION:Soreasu Antzokia (Azpeitia)
CATEGORIES:Antzerkia
END:VEVENT
BEGIN:VEVENT
DTSTART;TZID=Europe/Madrid:20211107T180000
DTEND;TZID=Europe/Madrid:20211107T193000
DTSTAMP:20260419T171137
CREATED:20211104T160108Z
LAST-MODIFIED:20211105T071121Z
UID:1339-1636308000-1636313400@www.lanartea.eus
SUMMARY:Erresistentzia arazo fisikoa da
DESCRIPTION:Antzerkia \nErresistentzia arazo fisikoa da \nMaite Aizpurua Olaizola. \nNoiz: 18:00-19:30. \nNon: Aiaraldea Ekintzen Faktoria (Laudio).
URL:https://www.lanartea.eus/agenda/erresistentzia-arazo-fisikoa-da/
CATEGORIES:Antzerkia
END:VEVENT
END:VCALENDAR