BEGIN:VCALENDAR
VERSION:2.0
PRODID:-//Lanartea - ECPv5.14.0.2//NONSGML v1.0//EN
CALSCALE:GREGORIAN
METHOD:PUBLISH
X-WR-CALNAME:Lanartea
X-ORIGINAL-URL:https://www.lanartea.eus
X-WR-CALDESC:Events for Lanartea
REFRESH-INTERVAL;VALUE=DURATION:PT1H
X-Robots-Tag:noindex
X-PUBLISHED-TTL:PT1H
BEGIN:VTIMEZONE
TZID:Europe/Madrid
BEGIN:DAYLIGHT
TZOFFSETFROM:+0100
TZOFFSETTO:+0200
TZNAME:CEST
DTSTART:20230326T010000
END:DAYLIGHT
BEGIN:STANDARD
TZOFFSETFROM:+0200
TZOFFSETTO:+0100
TZNAME:CET
DTSTART:20231029T010000
END:STANDARD
END:VTIMEZONE
BEGIN:VEVENT
DTSTART;TZID=Europe/Madrid:20231030T120000
DTEND;TZID=Europe/Madrid:20231030T130000
DTSTAMP:20260424T002753
CREATED:20231026T191053Z
LAST-MODIFIED:20231026T191053Z
UID:9703-1698667200-1698670800@www.lanartea.eus
SUMMARY:Bertsoak Gernikan
DESCRIPTION:Lagun-artekoa \nUrriko azken astelehena. Bertsolariak: Andoni Egaña\, Onintza Enbeita eta Sebastian Lizaso.
URL:https://www.lanartea.eus/agenda/bertsoak-gernikan-3/
LOCATION:Merkurio Plaza (Gernika)
CATEGORIES:Bertso saioa,Bertsoak,Bertsolaritza
END:VEVENT
END:VCALENDAR