BEGIN:VCALENDAR
VERSION:2.0
PRODID:-//Lanartea - ECPv5.14.0.2//NONSGML v1.0//EN
CALSCALE:GREGORIAN
METHOD:PUBLISH
X-WR-CALNAME:Lanartea
X-ORIGINAL-URL:https://www.lanartea.eus
X-WR-CALDESC:Events for Lanartea
REFRESH-INTERVAL;VALUE=DURATION:PT1H
X-Robots-Tag:noindex
X-PUBLISHED-TTL:PT1H
BEGIN:VTIMEZONE
TZID:Europe/Madrid
BEGIN:DAYLIGHT
TZOFFSETFROM:+0100
TZOFFSETTO:+0200
TZNAME:CEST
DTSTART:20230326T010000
END:DAYLIGHT
BEGIN:STANDARD
TZOFFSETFROM:+0200
TZOFFSETTO:+0100
TZNAME:CET
DTSTART:20231029T010000
END:STANDARD
END:VTIMEZONE
BEGIN:VEVENT
DTSTART;TZID=Europe/Madrid:20231026T200000
DTEND;TZID=Europe/Madrid:20231026T210000
DTSTAMP:20260425T181643
CREATED:20231026T153240Z
LAST-MODIFIED:20231026T160143Z
UID:9620-1698350400-1698354000@www.lanartea.eus
SUMMARY:Bertsoak Laban
DESCRIPTION:Bertso saio berezia \nBueltan dira Sare GIB-HIESaren babes eta prebentzio elkarteak antolatutako Plazer Elkarrizketak. Oraingo honetan\, bertso saioa egingo dute Sarai Robles\, Saioa Alkaiza eta Idoia Granizorekin.
URL:https://www.lanartea.eus/agenda/bertsoak-laban/
LOCATION:Laba (Iruñea)
CATEGORIES:Bertso saioa,Bertsoak,Bertsolaritza
END:VEVENT
BEGIN:VEVENT
DTSTART;TZID=Europe/Madrid:20231026T200000
DTEND;TZID=Europe/Madrid:20231026T213000
DTSTAMP:20260425T181643
CREATED:20231026T152750Z
LAST-MODIFIED:20231026T152750Z
UID:9614-1698350400-1698355800@www.lanartea.eus
SUMMARY:Afrikako gerrako bertsoak
DESCRIPTION:Bertso saio berezia \n1859-1860ko Afrikako gerrako soldadu euskaldunen bizipenak ezagutzeko parada eskainiko du Afrikako gerrari buruzko bertsoak saio bereziak\, Aitor Bizkarra bertsolaria kantari dela.
URL:https://www.lanartea.eus/agenda/afrikako-gerrako-bertsoak/
LOCATION:Zumalakarregi Museoa (Ormaiztegi)
CATEGORIES:Bakarrizketa,Bertso saioa,Bertsoak
END:VEVENT
BEGIN:VEVENT
DTSTART;TZID=Europe/Madrid:20231026T203000
DTEND;TZID=Europe/Madrid:20231026T213000
DTSTAMP:20260425T181643
CREATED:20231026T161259Z
LAST-MODIFIED:20231026T161259Z
UID:9625-1698352200-1698355800@www.lanartea.eus
SUMMARY:'Elkarrizketa bat pianoarekin: Zahartzaroa emakumeen euskarazko poesian'
DESCRIPTION:Literatur saio musikatua \nHi(zki)bridoak. Literatura mutanteak kultur zikloaren baitako beste saio bat. Ainhoa Urien Telletxek eta Nerea Iglesias Lilik gidatuko dute saioa\, zahartzaroa izendatu\, balidatu eta hausnartzeko aitzakia bat da eraikiz. Jolas egiteko ere bai\, olgeta ez delako umezaroko kontua bakarrik. Euskal emakume idazleek sortutako hamaika poemen bidez hurreratuko dira zahartzarora\, eta pianoa izango dute bidelagun. Elkarrizketan jarri dituzte poemok eta teklatu baten aireak.
URL:https://www.lanartea.eus/agenda/elkarrizketa-bat-pianoarekin-zahartzaroa-emakumeen-euskarazko-poesian/
LOCATION:Euskararen Etxea (Bilbo)
CATEGORIES:Errezitaldia,literatura,Musika
END:VEVENT
BEGIN:VEVENT
DTSTART;TZID=Europe/Madrid:20231026T203000
DTEND;TZID=Europe/Madrid:20231026T220000
DTSTAMP:20260425T181643
CREATED:20231026T153044Z
LAST-MODIFIED:20231026T153044Z
UID:9617-1698352200-1698357600@www.lanartea.eus
SUMMARY:'Bertsoak eta bertsolariak Irunen XIX. mendean: Hondarribiko adibideak'
DESCRIPTION:Hitzaldi berezia \nJoxan Elosegiren eta Aitor Errazkinen artean aletuko dituzte XIX. mendeko bertsoak eta bertsolariak\, Hondarribiko adibideak aiptuz eta kantatuz.
URL:https://www.lanartea.eus/agenda/bertsoak-eta-bertsolariak-irunen-xix-mendean-hondarribiko-adibideak/
LOCATION:Olagarro Elkartea (Hondarribia)
CATEGORIES:Bertsoak,Bertsolaritza,Musika,solasaldia
END:VEVENT
END:VCALENDAR