BEGIN:VCALENDAR
VERSION:2.0
PRODID:-//Lanartea - ECPv5.14.0.2//NONSGML v1.0//EN
CALSCALE:GREGORIAN
METHOD:PUBLISH
X-WR-CALNAME:Lanartea
X-ORIGINAL-URL:https://www.lanartea.eus
X-WR-CALDESC:Events for Lanartea
REFRESH-INTERVAL;VALUE=DURATION:PT1H
X-Robots-Tag:noindex
X-PUBLISHED-TTL:PT1H
BEGIN:VTIMEZONE
TZID:Europe/Madrid
BEGIN:DAYLIGHT
TZOFFSETFROM:+0100
TZOFFSETTO:+0200
TZNAME:CEST
DTSTART:20230326T010000
END:DAYLIGHT
BEGIN:STANDARD
TZOFFSETFROM:+0200
TZOFFSETTO:+0100
TZNAME:CET
DTSTART:20231029T010000
END:STANDARD
END:VTIMEZONE
BEGIN:VEVENT
DTSTART;TZID=Europe/Madrid:20231021T130000
DTEND;TZID=Europe/Madrid:20231022T005900
DTSTAMP:20260425T141041
CREATED:20231019T135305Z
LAST-MODIFIED:20231019T135305Z
UID:9559-1697893200-1697936340@www.lanartea.eus
SUMMARY:46. Euskal Zine Bilera
DESCRIPTION:Zinema jaialdia \nHirugarren eguna euskara hutsez egiten diren zinema lanen Lekeitioko jaialdian. Eguneko egitaraua betea dator: \n12:00: Sail Ofizialeko filmen hirugarren multzoa proiektatuko dute Ikusgarri aretoan. \n12:00-14:00 eta 17:00-19:00: Zoom Klixka esperimentazio espazioa zabalik izango da Kultur Etxeko Eskolape aretoan. \n17:30: Andrezaharraren manifestua-ren proiekzioa eta solasaldia\, Kultur Etxeko Azkue aretoan. \n19:30: EZBren sari banaketa ekitaldia eta Euskal Zinemaren Begirada\, Ikusgarri aretoan. \n22:15: Silitia taldearen kontzertua\, Silken hoteleko terrazan. \n 
URL:https://www.lanartea.eus/agenda/46-euskal-zine-bilera-3/
LOCATION:Lekeitioko hainbat gune
CATEGORIES:Jaialdia,literatura,Musika,solasaldia,Zinema
END:VEVENT
END:VCALENDAR