BEGIN:VCALENDAR
VERSION:2.0
PRODID:-//Lanartea - ECPv5.14.0.2//NONSGML v1.0//EN
CALSCALE:GREGORIAN
METHOD:PUBLISH
X-WR-CALNAME:Lanartea
X-ORIGINAL-URL:https://www.lanartea.eus
X-WR-CALDESC:Events for Lanartea
REFRESH-INTERVAL;VALUE=DURATION:PT1H
X-Robots-Tag:noindex
X-PUBLISHED-TTL:PT1H
BEGIN:VTIMEZONE
TZID:Europe/Madrid
BEGIN:DAYLIGHT
TZOFFSETFROM:+0100
TZOFFSETTO:+0200
TZNAME:CEST
DTSTART:20230326T010000
END:DAYLIGHT
BEGIN:STANDARD
TZOFFSETFROM:+0200
TZOFFSETTO:+0100
TZNAME:CET
DTSTART:20231029T010000
END:STANDARD
END:VTIMEZONE
BEGIN:VEVENT
DTSTART;TZID=Europe/Madrid:20231020T200000
DTEND;TZID=Europe/Madrid:20231020T213000
DTSTAMP:20260423T223439
CREATED:20231019T133938Z
LAST-MODIFIED:20231019T133938Z
UID:9555-1697832000-1697837400@www.lanartea.eus
SUMMARY:46. Euskal Zine Bilera
DESCRIPTION:Zinema jaialdia \nLekeitioko zinemaldia da\, Hazparneko Zinegin jaialdiarekin batera\, euskara hutsez egiten diren lanen erakuslehio bakarra. Euskarazko film laburren alorreko lehiaketa bakarra ere bada. Egitarauko bigarren egunean\, lehiaketan dauden 19 lanetako bigarren multzoa proiektatuko dute. Epaimahai lanak egingo dituzte: Nerea Alberdi musikariak\, Ramon Agirre aktoreak eta Alaitz Arenzana Zinegoak jaialdiko zuzendari artistikoak. \n\n 
URL:https://www.lanartea.eus/agenda/46-euskal-zine-bilera-2/
LOCATION:Ikusgarri zine aretoa (Lekeitio)
CATEGORIES:Jaialdia,Zinema
END:VEVENT
BEGIN:VEVENT
DTSTART;TZID=Europe/Madrid:20231020T203000
DTEND;TZID=Europe/Madrid:20231020T213000
DTSTAMP:20260423T223439
CREATED:20231019T071250Z
LAST-MODIFIED:20231019T071250Z
UID:9543-1697833800-1697837400@www.lanartea.eus
SUMMARY:'Ez Dok Hiru. Euskal musikaren benetazko istorioa'
DESCRIPTION:Antzerkia \nPatxo Telleriak eta Mikel Martinezek Euskal Herriko imajinario musikalaren errepaso ironiko\, absurdo eta jostagarria eskainiko dute. Obra honetan\, bikotea musikari-aktore batekin ariko da taulan. Hitzari\, beren ohiko tresna eszenikoari\, zuzeneko musikaren indarra gehiturik\, 200 bat euskal kanta klasiko baino gehiago entzunaraziko dizkigute (zatika).
URL:https://www.lanartea.eus/agenda/ez-dok-hiru-euskal-musikaren-benetazko-istorioa-2/
LOCATION:Txantreako Auzo Etxea (Iruñea)
CATEGORIES:Antzerkia,Musika
END:VEVENT
BEGIN:VEVENT
DTSTART;TZID=Europe/Madrid:20231020T203000
DTEND;TZID=Europe/Madrid:20231020T220000
DTSTAMP:20260423T223439
CREATED:20231019T141918Z
LAST-MODIFIED:20231019T141918Z
UID:9574-1697833800-1697839200@www.lanartea.eus
SUMMARY:Taldekako Xilabaren Ligaxka\, Alduden
DESCRIPTION:9. saioa\n \nTaldekako Xilaba txapelketaren azken sailkapen saioan\, Maddi Sarasua\, Joana Itzaina\, Battit Crouspeyre\, Oier Urreizti eta Xermin Camblongek osatzen duten Ez Dok Bost taldeak Zizpa Txispa (Maddalen Arzallus\, Aitor Servier\, Oihan Perez eta Aiantze Lannes) taldea errezibituko du.
URL:https://www.lanartea.eus/agenda/taldekako-xilabaren-ligaxka-alduden/
LOCATION:Alfaro ostatua (Aldude)
CATEGORIES:Bertsolaritza,Txapelketa
END:VEVENT
BEGIN:VEVENT
DTSTART;TZID=Europe/Madrid:20231020T210000
DTEND;TZID=Europe/Madrid:20231020T220000
DTSTAMP:20260423T223439
CREATED:20231019T140934Z
LAST-MODIFIED:20231019T140934Z
UID:9569-1697835600-1697839200@www.lanartea.eus
SUMMARY:'Familia sarekada'
DESCRIPTION:Antzerkia \nEtxean lasai afaltzen ari den familia batek Delitu Informatikoen Unitatearen (DIU) sarekada bat jasaten du\, susmoa baitago familiako norbaitek porno domestikoko sare bat daukala. \nAizpea Goenagak ekarri du euskarara Antonio Muñoz de Mesaren komedia hau\, eta Olga Margallok zuzendu. Vaiven konpainiaren ekoizpen honetan\, aktore nagusi lanetan ari dira Ainhoa Aierbe\, Nerea Gorriti\, Xanti Korkostegi eta Mikel Laskurain.
URL:https://www.lanartea.eus/agenda/familia-sarekada-7/
LOCATION:Aita Mari aretoa (Zumaia)
CATEGORIES:Antzerkia
END:VEVENT
BEGIN:VEVENT
DTSTART;TZID=Europe/Madrid:20231020T210000
DTEND;TZID=Europe/Madrid:20231020T223000
DTSTAMP:20260423T223439
CREATED:20231019T140802Z
LAST-MODIFIED:20231019T140802Z
UID:9567-1697835600-1697841000@www.lanartea.eus
SUMMARY:Anonyme Popular
DESCRIPTION:Ikus-entzunezko bertso jarriak \nAnonyme Popular Igor Elortza bertsolariaren proiektua da\, eta Rafa Rueda musikaria du lagun oholtzan. Bere izenean eta besteren abizenean arituz\, nitasun garaikide ertzdun bat dakar hitzetara Elortzak\, gutasun lanbrotsu baten erdian. Bertsoen hitzaren eta ahotsaren jarrera bereizgarri berekoak dira Rafa Ruedarekin landu dituen doinuak eta soinuak ere. Rapa\, trapa\, popa\, funkya\, mundurako erritmoak… Bertso-kantari aurkituko da sorpresaz entzulea\, aldiro\, aldiaren kontraesanetara ertz ezberdinetik hurbiltzeko.
URL:https://www.lanartea.eus/agenda/anonyme-popular-3/
LOCATION:Kulturate (Arrasate)
CATEGORIES:Bertsoak,Ikus-entzunezkoak,Musika
END:VEVENT
END:VCALENDAR