BEGIN:VCALENDAR
VERSION:2.0
PRODID:-//Lanartea - ECPv5.14.0.2//NONSGML v1.0//EN
CALSCALE:GREGORIAN
METHOD:PUBLISH
X-WR-CALNAME:Lanartea
X-ORIGINAL-URL:https://www.lanartea.eus
X-WR-CALDESC:Events for Lanartea
REFRESH-INTERVAL;VALUE=DURATION:PT1H
X-Robots-Tag:noindex
X-PUBLISHED-TTL:PT1H
BEGIN:VTIMEZONE
TZID:Europe/Madrid
BEGIN:DAYLIGHT
TZOFFSETFROM:+0100
TZOFFSETTO:+0200
TZNAME:CEST
DTSTART:20230326T010000
END:DAYLIGHT
BEGIN:STANDARD
TZOFFSETFROM:+0200
TZOFFSETTO:+0100
TZNAME:CET
DTSTART:20231029T010000
END:STANDARD
END:VTIMEZONE
BEGIN:VEVENT
DTSTART;TZID=Europe/Madrid:20230929T120000
DTEND;TZID=Europe/Madrid:20230929T143000
DTSTAMP:20260425T141831
CREATED:20230912T090909Z
LAST-MODIFIED:20230912T090909Z
UID:9291-1695988800-1695997800@www.lanartea.eus
SUMMARY:Bertsoak Urnietan
DESCRIPTION:Plaza librea \nSanmielen egitarauan\, bertsolariak. Oihana Iguaranek eta Sebastian Lizasok herriko elizan egingo dute bertsotan lehenik. Ondoren\, 12:30ean\, San Juan plazara joango dira bertsoak kantatzera. \n.
URL:https://www.lanartea.eus/agenda/bertsoak-urnietan-2/
LOCATION:Herrik elizan lehenik\, San Juan plazan gero (Urnieta)
CATEGORIES:Bertso saioa,Bertsoak,Bertsolaritza
END:VEVENT
BEGIN:VEVENT
DTSTART;TZID=Europe/Madrid:20230929T203000
DTEND;TZID=Europe/Madrid:20230929T220000
DTSTAMP:20260425T141831
CREATED:20230912T091332Z
LAST-MODIFIED:20230912T091332Z
UID:9297-1696019400-1696024800@www.lanartea.eus
SUMMARY:Bertsoak Saran
DESCRIPTION:Taldekako Xilaba Txapelketa \nSariketako hirugarren saioa\, Lizaieta (Etxahun Azkarraga\, Allande Alfaro eta Haira eta Karlos Aizpurua) eta Kakoiak (Beñat Larrory\, Aetz Etxart\, Xan Alkhat\, Joanes Etxebarria eta Leire Casamajouk) taldeen jardunarekin.
URL:https://www.lanartea.eus/agenda/bertsoak-saran-3/
LOCATION:Pleka Trinketea (Sara)
CATEGORIES:Bertso saioa,Bertsoak,Bertsolaritza,Txapelketa
END:VEVENT
BEGIN:VEVENT
DTSTART;TZID=Europe/Madrid:20230929T210000
DTEND;TZID=Europe/Madrid:20230929T223000
DTSTAMP:20260425T141831
CREATED:20230912T090446Z
LAST-MODIFIED:20230912T090446Z
UID:9288-1696021200-1696026600@www.lanartea.eus
SUMMARY:Bertsoak Iruran
DESCRIPTION:Bertso saioa \nSan Migel jaiak. Bertsolariak: Uxue Alberdi\, Alaia Martin\, Aitor Mendiluze eta Iker Zubeldia. Gai-jartzailea: Amaia Agirre
URL:https://www.lanartea.eus/agenda/bertsoak-iruran-3/
LOCATION:Irurako Eliza
CATEGORIES:Bertso saioa,Bertsoak,Bertsolaritza
END:VEVENT
BEGIN:VEVENT
DTSTART;TZID=Europe/Madrid:20230929T210000
DTEND;TZID=Europe/Madrid:20230929T223000
DTSTAMP:20260425T141831
CREATED:20230912T091055Z
LAST-MODIFIED:20230912T091055Z
UID:9294-1696021200-1696026600@www.lanartea.eus
SUMMARY:Bertsoak Loiun
DESCRIPTION:Bertso saioa  \nBertsolariak: Sustrai Colina\, Onintza Enbeita\, Oihana Iguaran\, Etxahun Lekue eta Xabi Paya. Gai-jartzailea: Iñaki Beitia Arbildu
URL:https://www.lanartea.eus/agenda/bertsoak-loiun-3/
LOCATION:Laurotako San Miel ermita (Loiu)
CATEGORIES:Bertso saioa,Bertsoak,Bertsolaritza
END:VEVENT
END:VCALENDAR