BEGIN:VCALENDAR
VERSION:2.0
PRODID:-//Lanartea - ECPv5.14.0.2//NONSGML v1.0//EN
CALSCALE:GREGORIAN
METHOD:PUBLISH
X-WR-CALNAME:Lanartea
X-ORIGINAL-URL:https://www.lanartea.eus
X-WR-CALDESC:Events for Lanartea
REFRESH-INTERVAL;VALUE=DURATION:PT1H
X-Robots-Tag:noindex
X-PUBLISHED-TTL:PT1H
BEGIN:VTIMEZONE
TZID:Europe/Madrid
BEGIN:DAYLIGHT
TZOFFSETFROM:+0100
TZOFFSETTO:+0200
TZNAME:CEST
DTSTART:20230326T010000
END:DAYLIGHT
BEGIN:STANDARD
TZOFFSETFROM:+0200
TZOFFSETTO:+0100
TZNAME:CET
DTSTART:20231029T010000
END:STANDARD
END:VTIMEZONE
BEGIN:VEVENT
DTSTART;VALUE=DATE:20230922
DTEND;VALUE=DATE:20230924
DTSTAMP:20260421T114933
CREATED:20230912T082415Z
LAST-MODIFIED:20230912T084136Z
UID:9271-1695344400-1695430799@www.lanartea.eus
SUMMARY:Bertsoak Iturenen
DESCRIPTION:Saio librean \nJoaldun Eguna dela eta\, Unai Agirre Goia eta Aitor Mendiluzebertsotan arituko dira egun osoan zehar herrian.
URL:https://www.lanartea.eus/agenda/bertsoak-iturenen-2/
LOCATION:Ituren
CATEGORIES:Bertsoak,Bertsolaritza
END:VEVENT
BEGIN:VEVENT
DTSTART;TZID=Europe/Madrid:20230922T200000
DTEND;TZID=Europe/Madrid:20230922T213000
DTSTAMP:20260421T114933
CREATED:20230912T075854Z
LAST-MODIFIED:20230912T075854Z
UID:9266-1695412800-1695418200@www.lanartea.eus
SUMMARY:Taldekako Xilabaren hasiera\, Ozazen
DESCRIPTION:Xiberoa\, Lapurdi eta Baxenabarreko Taldekako Txapelketa \nTaldekako Xilaba abiatuko da gaur Kakoiak eta Hazparke taldeen arteko lehiarekin. Beñat Larrory\, Aetz Etxart\, Xan Alkhat\, Joanes Etxebarria eta Leire Casamajouk osatzen dute Kakoiak taldea. Hazparkeko kide dira\, berriz: Irantzu eta Ortzi Idoate eta Nahia Sasco.
URL:https://www.lanartea.eus/agenda/taldekako-xilabaren-hasiera-ozazen/
LOCATION:Ozazeko Herriko Gela
CATEGORIES:Bertso saioa,Bertsoak,Bertsolaritza
END:VEVENT
BEGIN:VEVENT
DTSTART;TZID=Europe/Madrid:20230922T200000
DTEND;TZID=Europe/Madrid:20230922T220000
DTSTAMP:20260421T114933
CREATED:20230912T073658Z
LAST-MODIFIED:20230912T073658Z
UID:9254-1695412800-1695420000@www.lanartea.eus
SUMMARY:Bertsoak Altzan
DESCRIPTION:Bertso poteoa \nAltzako Bertso Aroaren barruan. Miren Artetxe eta Beñat Gaztelumendi bertsotan arituko dira Donostiako Musika Eskolako Trikitilari Taldea lagun dutela.
URL:https://www.lanartea.eus/agenda/bertsoak-altzan-2/
LOCATION:Casaresetik abiatuta (Altza\, Donostia)
CATEGORIES:Bertso saioa,Bertsoak,Bertsolaritza
END:VEVENT
BEGIN:VEVENT
DTSTART;TZID=Europe/Madrid:20230922T210000
DTEND;TZID=Europe/Madrid:20230922T220000
DTSTAMP:20260421T114933
CREATED:20230912T074741Z
LAST-MODIFIED:20230912T074741Z
UID:9264-1695416400-1695420000@www.lanartea.eus
SUMMARY:'AMAraun'
DESCRIPTION:Diziplina arteko ikuskizuna \nAmatasunaren inguruko hausnarketa bat kontatzeko musika\, kantua eta dantza uztartzen dituen ikuskizuna da AMAraun. «(Ama) izan ala ez izan» erabakitik abiatuko dute emanaldia\, amatasunaren esperientzia batzuk agertzeko bidea eginez\, ezagutzen ditugun ereduen eta gustatuko litzaizkigukeen ereduen arteko joan-etorrian. Enpatia eta aitortza ariketa bat amatasun mota guztiekiko\, eta hausnarketa bat gizartean figura horrek betetzen duen paperarekiko. \nBertsoa eta dantza uztartzen ditu\, baina ez bakoitza bere aldetik\, kontakizun baten elementu banaezin bezala baizik. Hala\, Oihana Iguaranen bertsoak Amaiur Luluagaren koreografiarekin uztartuko dira.
URL:https://www.lanartea.eus/agenda/amaraun-18/
LOCATION:Modelo aretoa (Zarautz)
CATEGORIES:Arte eszenikoak,Bertsoak,Bertsolaritza,Dantza,Musika
END:VEVENT
BEGIN:VEVENT
DTSTART;TZID=Europe/Madrid:20230922T213000
DTEND;TZID=Europe/Madrid:20230922T230000
DTSTAMP:20260421T114933
CREATED:20230912T123607Z
LAST-MODIFIED:20230912T123607Z
UID:9359-1695418200-1695423600@www.lanartea.eus
SUMMARY:'Hondamendia'
DESCRIPTION:Antzerkia \nAxut! eta Artedrama konpainiek sortutako obra. Pandemia eta Zaldibarko zabortegiaren hondamendi bikoitzetik abiatzen da\, 2020ko otsailetik 2022ko otsailera arteko kontakizuna eginez.\nZuzeneko musikaz\, bideoz eta dantzaz osatutako ikuskizuna da eta oholtzan zortzi aktore arituko dira: Ander Lipus\, Maite Larburu\, Manex Fuchs\, Ruth Guimera\, Eneko Gil\, Ane Sagues eta Jon Ander Urresti. Dantzaria\, irrati-esataria\, Zaldibarko langileak\, politikariak\, enpresariak… gorpuztu dituzte. Harkaitz Canok idatzi du obra eta Ximun Fuchsek zuzendu.
URL:https://www.lanartea.eus/agenda/hondamendia-18/
LOCATION:Ordiziako Herri Antzokia
CATEGORIES:Antzerkia
END:VEVENT
BEGIN:VEVENT
DTSTART;TZID=Europe/Madrid:20230922T220000
DTEND;TZID=Europe/Madrid:20230923T003000
DTSTAMP:20260421T114933
CREATED:20230912T074005Z
LAST-MODIFIED:20230912T074005Z
UID:9260-1695420000-1695429000@www.lanartea.eus
SUMMARY:Bertsoak Zaldibarren
DESCRIPTION:Bertso afaria \nBertsolariak: Amets Arzallus eta Alaia Martin
URL:https://www.lanartea.eus/agenda/bertsoak-zaldibarren-4/
LOCATION:Goierri Auzo Etxea (Zaldibar)
CATEGORIES:Bertso saioa,Bertsoak,Bertsolaritza
END:VEVENT
BEGIN:VEVENT
DTSTART;TZID=Europe/Madrid:20230922T233000
DTEND;TZID=Europe/Madrid:20230923T004500
DTSTAMP:20260421T114933
CREATED:20230912T074143Z
LAST-MODIFIED:20230912T074143Z
UID:9262-1695425400-1695429900@www.lanartea.eus
SUMMARY:Bertsoak Oñatin
DESCRIPTION:Bertso jaialdia \nBertsolariak: Amaia Agirre\, Urko Arregi\, Aitor Bizkarra\, Sustrai Colina\, Oihana Iguaran eta Unai Iturriaga. Gai-emailea: Aritz Iza
URL:https://www.lanartea.eus/agenda/bertsoak-onatin-5/
LOCATION:Zubikoa kiroldegia (Oñati)
CATEGORIES:Bertso saioa,Bertsoak,Bertsolaritza
END:VEVENT
BEGIN:VEVENT
DTSTART;TZID=Europe/Madrid:20230922T233000
DTEND;TZID=Europe/Madrid:20230923T005900
DTSTAMP:20260421T114933
CREATED:20230912T073839Z
LAST-MODIFIED:20230912T073839Z
UID:9257-1695425400-1695430740@www.lanartea.eus
SUMMARY:Bertsoak Aizarnazabalen
DESCRIPTION:Bertso jaialdia \nBertsolariak: Maddalen Arzallus\, Andoni Egaña\, Nerea Ibarzabal eta Aitor Mendiluze. Gai-jartzailea: Igotz Alkorta
URL:https://www.lanartea.eus/agenda/bertsoak-aizarnazabalen-2/
LOCATION:Atari Soro pilotalekua (Aizarnazabal)
CATEGORIES:Bertso saioa,Bertsoak,Bertsolaritza
END:VEVENT
END:VCALENDAR