BEGIN:VCALENDAR
VERSION:2.0
PRODID:-//Lanartea - ECPv5.14.0.2//NONSGML v1.0//EN
CALSCALE:GREGORIAN
METHOD:PUBLISH
X-WR-CALNAME:Lanartea
X-ORIGINAL-URL:https://www.lanartea.eus
X-WR-CALDESC:Events for Lanartea
REFRESH-INTERVAL;VALUE=DURATION:PT1H
X-Robots-Tag:noindex
X-PUBLISHED-TTL:PT1H
BEGIN:VTIMEZONE
TZID:Europe/Madrid
BEGIN:DAYLIGHT
TZOFFSETFROM:+0100
TZOFFSETTO:+0200
TZNAME:CEST
DTSTART:20230326T010000
END:DAYLIGHT
BEGIN:STANDARD
TZOFFSETFROM:+0200
TZOFFSETTO:+0100
TZNAME:CET
DTSTART:20231029T010000
END:STANDARD
END:VTIMEZONE
BEGIN:VEVENT
DTSTART;TZID=Europe/Madrid:20230913T190000
DTEND;TZID=Europe/Madrid:20230913T203000
DTSTAMP:20260423T170903
CREATED:20230912T064515Z
LAST-MODIFIED:20230912T064515Z
UID:9209-1694631600-1694637000@www.lanartea.eus
SUMMARY:Bertsoak Saran
DESCRIPTION:Saio librea \n Haira Aizpurua Ibargarai\, Amets Arzallus eta Oier Urreizti balkoitik balkoira arituko dira bertsotan\, herriko bestetan.\n \n 
URL:https://www.lanartea.eus/agenda/bertsoak-saran-2/
LOCATION:Sarako Plaza
CATEGORIES:Bertso saioa,Bertsoak,Bertsolaritza
END:VEVENT
BEGIN:VEVENT
DTSTART;TZID=Europe/Madrid:20230913T210000
DTEND;TZID=Europe/Madrid:20230913T230000
DTSTAMP:20260423T170903
CREATED:20230912T125105Z
LAST-MODIFIED:20230912T125200Z
UID:9367-1694638800-1694646000@www.lanartea.eus
SUMMARY:Kepa Junkerari omenaldia
DESCRIPTION:Kontzertua \nGetxo Folk jaialdiaren inaugurazio egunean\, irailaren 13an\, Kepa Junkera. HAUsPOZ kontzertua egingo dute\, trikitilari bizkaitarraren omenez. Oreka TX\, Ibon Koteron\, Kukai Dantza\, La Cobla de San Jordi\, Uxia\, Budiño\, Pandereteras del Barrio\, Xabi Aburruzaga\, Agurtzane eta Ion Elustondo eta Maixa Lizarribar izango dira\, besteak beste\, Muxikebarriko oholtzara igoko direnak.
URL:https://www.lanartea.eus/agenda/kepa-junkerari-omenaldia/
LOCATION:Muxikebarri Antzokia (Algorta\, Getxo)
CATEGORIES:kontzertua,Musika,Trikitixa
END:VEVENT
END:VCALENDAR