BEGIN:VCALENDAR
VERSION:2.0
PRODID:-//Lanartea - ECPv5.14.0.2//NONSGML v1.0//EN
CALSCALE:GREGORIAN
METHOD:PUBLISH
X-WR-CALNAME:Lanartea
X-ORIGINAL-URL:https://www.lanartea.eus
X-WR-CALDESC:Events for Lanartea
REFRESH-INTERVAL;VALUE=DURATION:PT1H
X-Robots-Tag:noindex
X-PUBLISHED-TTL:PT1H
BEGIN:VTIMEZONE
TZID:Europe/Madrid
BEGIN:DAYLIGHT
TZOFFSETFROM:+0100
TZOFFSETTO:+0200
TZNAME:CEST
DTSTART:20230326T010000
END:DAYLIGHT
BEGIN:STANDARD
TZOFFSETFROM:+0200
TZOFFSETTO:+0100
TZNAME:CET
DTSTART:20231029T010000
END:STANDARD
END:VTIMEZONE
BEGIN:VEVENT
DTSTART;TZID=Europe/Madrid:20230527T183000
DTEND;TZID=Europe/Madrid:20230528T030000
DTSTAMP:20260423T130625
CREATED:20230523T133831Z
LAST-MODIFIED:20230523T133831Z
UID:9145-1685212200-1685242800@www.lanartea.eus
SUMMARY:Argi Bidea Jaialdia
DESCRIPTION:Urteurren festa \nArbizuko Argi Bidea Gazte Asanbladak 55. urteurrena ospatuko du. Horretarako\, egun osoko egitaratua antolatu dute. 17:30etatik aurrera elektrotxaranga eta 20:00etatik aurrera ZETAK\, Nafarroa 1512\, Raimundo El Canastero\, Skabidean eta beste hainbat taldek kontzertua eskainiko dute.
URL:https://www.lanartea.eus/agenda/argi-bidea-jaialdia/
LOCATION:Arbizuko Plaza
CATEGORIES:Jaialdia,Musika
END:VEVENT
BEGIN:VEVENT
DTSTART;TZID=Europe/Madrid:20230528T000000
DTEND;TZID=Europe/Madrid:20230528T030000
DTSTAMP:20260423T130625
CREATED:20230523T175057Z
LAST-MODIFIED:20230523T175057Z
UID:9174-1685232000-1685242800@www.lanartea.eus
SUMMARY:McOnak
DESCRIPTION:Kontzertua \nLekeitioko folk-rock taldeak iaz argitaratu zuen Bitakora diskoa. Gaurkoan\, Urrats taldearekin partekatuko du oholtza.
URL:https://www.lanartea.eus/agenda/mconak-2/
LOCATION:Zamudioko herrigunea
CATEGORIES:kontzertua,Musika
END:VEVENT
BEGIN:VEVENT
DTSTART;TZID=Europe/Madrid:20230528T200000
DTEND;TZID=Europe/Madrid:20230528T210000
DTSTAMP:20260423T130625
CREATED:20230523T171631Z
LAST-MODIFIED:20230523T171631Z
UID:9164-1685304000-1685307600@www.lanartea.eus
SUMMARY:'Besarkada'
DESCRIPTION:Dantza \nNerea Martinezek Natalia Garcia dantzariaren eta Monica Lavandera diseinatzailearen konpainian ondu zuen proiektu hau\, Azala Kreazio Espazioan\, eta Eszenabide 2020 saria jaso zuen\, Prozesuko Proiektu Onenari. \nEmakume bikote bat\, bi gorputz\, bi eskultura\, bidaian zehar soinu-paisaia batean biltzen dituena\, eta bidaiak berak hainbat zirrara gogora ekartzen dituela\, bizitzan zehar jasotako ezin konta ahala besarkaden zirrarak.
URL:https://www.lanartea.eus/agenda/besarkada-4/
LOCATION:Fundicion (Bilbo)
CATEGORIES:Dantza
END:VEVENT
BEGIN:VEVENT
DTSTART;TZID=Europe/Madrid:20230528T200000
DTEND;TZID=Europe/Madrid:20230528T213000
DTSTAMP:20260423T130625
CREATED:20230523T174750Z
LAST-MODIFIED:20230523T174750Z
UID:9172-1685304000-1685309400@www.lanartea.eus
SUMMARY:Ibil Bedi
DESCRIPTION:Kontzertua \nNafarroako herri ezberdinetan jaiotako musikariek osatzen dute Ibil Bedi. Pop musika egiten dute\, baina ez diete muzin egiten bestelako musika eraginei\, tartean\, rockari edo folkari. Taldearen lehen lanak (Berandu baina garaiz) 2019an ikusi zuen argia; 2021ean argitaratu zuten bigarrena\, Beltxarga Beltza; eta aurten eman dute Goldea. Azken horren aurkezpen bira hasi berri du taldeak.
URL:https://www.lanartea.eus/agenda/ibil-bedi-4/
LOCATION:Astra (Gernika-Lumo)
CATEGORIES:kontzertua,Musika
END:VEVENT
END:VCALENDAR