BEGIN:VCALENDAR
VERSION:2.0
PRODID:-//Lanartea - ECPv5.14.0.2//NONSGML v1.0//EN
CALSCALE:GREGORIAN
METHOD:PUBLISH
X-WR-CALNAME:Lanartea
X-ORIGINAL-URL:https://www.lanartea.eus
X-WR-CALDESC:Events for Lanartea
REFRESH-INTERVAL;VALUE=DURATION:PT1H
X-Robots-Tag:noindex
X-PUBLISHED-TTL:PT1H
BEGIN:VTIMEZONE
TZID:Europe/Madrid
BEGIN:DAYLIGHT
TZOFFSETFROM:+0100
TZOFFSETTO:+0200
TZNAME:CEST
DTSTART:20230326T010000
END:DAYLIGHT
BEGIN:STANDARD
TZOFFSETFROM:+0200
TZOFFSETTO:+0100
TZNAME:CET
DTSTART:20231029T010000
END:STANDARD
END:VTIMEZONE
BEGIN:VEVENT
DTSTART;TZID=Europe/Madrid:20230526T193000
DTEND;TZID=Europe/Madrid:20230526T210000
DTSTAMP:20260421T060845
CREATED:20230523T123706Z
LAST-MODIFIED:20230526T055423Z
UID:9127-1685129400-1685134800@www.lanartea.eus
SUMMARY:'Loreak Belaunetan'
DESCRIPTION:Emanaldia + solasaldia \nZazpi artista gazte beren ametsez\, ekinez eta ezinez hizketan. Belaunaldi berriei gure kultur ekosisteman opa zaien tokiari begiratzen hasteko abiapuntu posible bat. 40 minutu eskaseko dokumentala\, Lanartea Elkarteak ekoitzia.\nFilma eman ostean\, solasaldia egingo dute Txomin Dhers musikariarekin eta filmaren zuzendariarekin.
URL:https://www.lanartea.eus/agenda/loreak-belaunetan-15/
LOCATION:Ducontenia gela (Donibane Lohizune)
CATEGORIES:Antzerkia,Arte eszenikoak,Arte plastikoak,Bertsolaritza,Dokumentala,Ikus-entzunezkoa,Ilustrazioa,literatura,Musika,solasaldia,Zinema
ATTACH;FMTTYPE=image/jpeg:https://www.lanartea.eus/wp-content/uploads/2022/11/loreak-belaunetan-fotogramak_4.17.1-1.jpg
END:VEVENT
BEGIN:VEVENT
DTSTART;TZID=Europe/Madrid:20230526T200000
DTEND;TZID=Europe/Madrid:20230526T213000
DTSTAMP:20260421T060845
CREATED:20230523T172954Z
LAST-MODIFIED:20230523T172954Z
UID:9168-1685131200-1685136600@www.lanartea.eus
SUMMARY:Aitor Arregi\, Jon Garaño eta Jose Mari Goenaga solasean
DESCRIPTION:Hitzaldia \nKM Kulturuneak Donostiako Zinemaldiaren urte osoko Z365 atalarekin eta Elías Querejeta Zine Eskolarekin batera antolatutako solasaldia\, Zinemagileen Arteko Elkarrizketak zikloaren testuinguruan. \n Aitor Arregi\, Jon Garaño eta Jose Mari Goenaga zinemagileek bi hamarkada daramatzate elkarlanean filmak egiten\, Moriarti Ekoizpenak izenpean. Besteak beste\, Loreak (2014) eta Handia (2017) filmak zuzendu dituzte.  \nMikele Landaren gidaritzapean\, beraien hastapenetatik abiatu eta egun eskuartean dituzten erronkei buruz mintzatuko dira. Tartean\, amaitzear duten Balenciaga telesailaren sortze prozesuaz.
URL:https://www.lanartea.eus/agenda/aitor-arregi-jon-garano-eta-jose-mari-goenaga-solasean/
LOCATION:Koldo Mitxelena kulturgunea (Donostia)
CATEGORIES:solasaldia,Zinema
END:VEVENT
BEGIN:VEVENT
DTSTART;TZID=Europe/Madrid:20230526T210000
DTEND;TZID=Europe/Madrid:20230526T220000
DTSTAMP:20260421T060845
CREATED:20230523T171325Z
LAST-MODIFIED:20230523T171325Z
UID:9160-1685134800-1685138400@www.lanartea.eus
SUMMARY:'Postdatarik gabeko gutunak' (estreinaldia)
DESCRIPTION:Antzerkia\nMikelek 5 urte eman ditu preso\, eta ordu bete geratzen zaio bizimodu berri bat hasteko. Ordu bete hau inoiz parez pare ezagutu ez duen igorle misteriotsu bati eskainiko dio. Izan ere\, azken hilabetetan gutun misteriotsu batzuk jaso ditu bere burua identifikatu ez duen norbaiten partetik. Eskutitz guztiek ezaugarri bera dute; postdataren lekua hutsik uzten du idazleak.\nCharlotez jantzitako pianista mutu baten laguntzaz\, bere bizitzaren errepaso bat egingo du jasotako gutunak gogoratuz\, igorle misteriotsua nor den jakin arte.\nXake konpainiak ekoitzi eta Getari Etxegaraik zuzendu du Kepa Errastiren obra hau. Aktore lanetan ari dira: Errasti bera eta Nerea Ariznabarreta.
URL:https://www.lanartea.eus/agenda/postdatarik-gabeko-gutunak-estreinaldia/
LOCATION:Leidor Antzokia (Tolosa)
CATEGORIES:Antzerkia,Estreinaldia
END:VEVENT
BEGIN:VEVENT
DTSTART;TZID=Europe/Madrid:20230526T210000
DTEND;TZID=Europe/Madrid:20230526T220000
DTSTAMP:20260421T060845
CREATED:20230523T171818Z
LAST-MODIFIED:20230523T171818Z
UID:9166-1685134800-1685138400@www.lanartea.eus
SUMMARY:'Quo'
DESCRIPTION:Dantza \nBa al dago tokirik dantzarako? Nola aurkitu birtualtasunak une oro gorputzaren erritualitate edo zeremonia hori\, mugimendua\, zatitzeko mehatxua egiten duen mundu batean? Dantzaz-en ekoizpen honek Gil Harush eta Hilde Koch koreografoen lanen bitartez egiten dituzte galderok. Arrantza-tradizio zaharrak eszenara eramaten dituen mosaiko bat osatzen duten hiru pieza sinatzen dituzte bi artistok; etengabe konektatuta egoteak sortzen digun antsietatea islatzeko; edo lasaitasuna aurkitzeko antzinako lurralde eder bat birsortzeko lau elementu naturalei buruz hitz egiteko.
URL:https://www.lanartea.eus/agenda/quo-2/
LOCATION:Serantes Antzokia (Santurtzi)
CATEGORIES:Dantza
END:VEVENT
BEGIN:VEVENT
DTSTART;TZID=Europe/Madrid:20230526T210000
DTEND;TZID=Europe/Madrid:20230526T223000
DTSTAMP:20260421T060845
CREATED:20230523T132752Z
LAST-MODIFIED:20230523T132752Z
UID:9143-1685134800-1685140200@www.lanartea.eus
SUMMARY:Su Ta Gar
DESCRIPTION:Kontzertua \n30 urte baino gehiago dira Su Ta Gar talde aitzindaria zuzenekoak ematen hasi zela.  Euskal Herrian heavya euskalduntzea lortu zuen taldea da Eibarrekoa. Alarma diskoa aurkezteko biran ari da taldea.
URL:https://www.lanartea.eus/agenda/su-ta-gar-8/
LOCATION:Totem aretoa (Atarrabia)
CATEGORIES:kontzertua,Musika
END:VEVENT
BEGIN:VEVENT
DTSTART;TZID=Europe/Madrid:20230526T213000
DTEND;TZID=Europe/Madrid:20230526T230000
DTSTAMP:20260421T060845
CREATED:20230523T142133Z
LAST-MODIFIED:20230523T142133Z
UID:9157-1685136600-1685142000@www.lanartea.eus
SUMMARY:'Bizitzaren maskaradak'
DESCRIPTION:Antzerkia \nTaupada antzerki taldeak bederatzi mikroantzerki bildu ditue antzezlan honetan\, eta pertsonaiek egoera desberdinak biziko dituzte: maitasun eta askatasun eza\, gaizki ulertuak\, bakardadea\, maitasun debekatuak\, maltzurkeria\, bikoteen arteko arazoak eta ezkutuko desioak… Istorio guztiak kaleidoskopio batean bildu dituzte. \nEdurne Lasak zuzendu du obra\, eta Jose Mari Larrañagak egin ditu teknikari lanak. Aktore lanetan\, berriz\, hauek arituko dira: Dani Zelaia\, David Rodriguez\, Edu Ayesta\, Gorka Luna\, Ibai Leon\, Maixus Otaegi\, Nagore Cid\, Oihane Gartzia\, Ruben Markina eta Sara Iriondo.
URL:https://www.lanartea.eus/agenda/bizitzaren-maskaradak/
CATEGORIES:Antzerkia
END:VEVENT
END:VCALENDAR