BEGIN:VCALENDAR
VERSION:2.0
PRODID:-//Lanartea - ECPv5.14.0.2//NONSGML v1.0//EN
CALSCALE:GREGORIAN
METHOD:PUBLISH
X-WR-CALNAME:Lanartea
X-ORIGINAL-URL:https://www.lanartea.eus
X-WR-CALDESC:Events for Lanartea
REFRESH-INTERVAL;VALUE=DURATION:PT1H
X-Robots-Tag:noindex
X-PUBLISHED-TTL:PT1H
BEGIN:VTIMEZONE
TZID:Europe/Madrid
BEGIN:DAYLIGHT
TZOFFSETFROM:+0100
TZOFFSETTO:+0200
TZNAME:CEST
DTSTART:20230326T010000
END:DAYLIGHT
BEGIN:STANDARD
TZOFFSETFROM:+0200
TZOFFSETTO:+0100
TZNAME:CET
DTSTART:20231029T010000
END:STANDARD
END:VTIMEZONE
BEGIN:VEVENT
DTSTART;TZID=Europe/Madrid:20230525T193000
DTEND;TZID=Europe/Madrid:20230525T203000
DTSTAMP:20260421T072714
CREATED:20230523T140704Z
LAST-MODIFIED:20230523T140704Z
UID:9152-1685043000-1685046600@www.lanartea.eus
SUMMARY:Ruper Ordorika
DESCRIPTION:Kontzertua \nEuskal musikaren erraldoi hau bakarka arituko da gaurkoan.
URL:https://www.lanartea.eus/agenda/ruper-ordorika-16/
LOCATION:La Bota (Lizarra)
CATEGORIES:kontzertua,Musika
END:VEVENT
BEGIN:VEVENT
DTSTART;TZID=Europe/Madrid:20230525T200000
DTEND;TZID=Europe/Madrid:20230525T213000
DTSTAMP:20260421T072714
CREATED:20230523T174056Z
LAST-MODIFIED:20230523T174056Z
UID:9170-1685044800-1685050200@www.lanartea.eus
SUMMARY:'Anonyme Popular'
DESCRIPTION:Ikus-entzunezko bertso jarriak \nAnonyme Popular Igor Elortza bertsolari durangarraren proiektu berria da\, eta Azpeitian estreinatuko du gaur\, bertako Dinamoaan sormen egonaldia egin ostean. \nBere izenean eta besteren abizenean arituz\, nitasun garaikide ertzdun bat dakar hitzetara Elortzak\, gutasun lanbrotsu baten erdian. Bertsoen hitzaren eta ahotsaren jarrera bereizgarri berekoak dira Rafa Ruedarekin landu dituen doinuak eta soinuak ere. Rapa\, trapa\, popa\, funkya\, mundurako erritmoak… Bertso-kantaro aurkituko da sorpresaz entzulea\, aldiro\, aldiaren kontraesanetara ertz ezberdinetik hurbiltzeko. \n\nAzpeitiko Kulturaz kooperatibako ikus- entzunezko narrazioen sortzaileekin osatzen da zuzeneko emanaldia\, bertsoen hariari eta musikaren aireari paisaiak erantsiz; paisaia humanoak\, urbanoak\, mundanoak.
URL:https://www.lanartea.eus/agenda/anonyme-popular-2/
LOCATION:San Agustin Kultur Gunea (Durango)
CATEGORIES:Bertsolaritza,Ikus-entzunezkoa,Musika
END:VEVENT
BEGIN:VEVENT
DTSTART;TZID=Europe/Madrid:20230525T203000
DTEND;TZID=Europe/Madrid:20230525T213000
DTSTAMP:20260421T072714
CREATED:20230523T131429Z
LAST-MODIFIED:20230523T131429Z
UID:9132-1685046600-1685050200@www.lanartea.eus
SUMMARY:'Pertsona eta pertsonaia'
DESCRIPTION:Hitzaldia \nItziar Ituño aktoreak bere esperientziatik hitz egingo du.
URL:https://www.lanartea.eus/agenda/pertsona-eta-pertsonaia/
LOCATION:Euskaldunon Biltoki (Txatrea\, Iruñea)
CATEGORIES:Arte eszenikoak,Hitzaldia,Zinema
END:VEVENT
BEGIN:VEVENT
DTSTART;TZID=Europe/Madrid:20230525T210000
DTEND;TZID=Europe/Madrid:20230525T223000
DTSTAMP:20260421T072714
CREATED:20230523T132504Z
LAST-MODIFIED:20230523T132504Z
UID:9140-1685048400-1685053800@www.lanartea.eus
SUMMARY:Lumi
DESCRIPTION:Kontzertua \nKantu eta Hitza musika zikloaren barnean\, Lumi taldeak kontzertua eskainiko du O-ko Andre Maria Plazan. Nahia Zubeldiak (ahotsa eta gitarra elektrikoa) eta Manu Matthysek (elektronika) osatzen duten elektro-pop bikoteak iaz argitaratu zuen Bezperen dirdira\, euren laugarren diskoa. \nSarrera doakoa lekua bete arte; euria eginez gero\, kontzertua Erraldoien Txokoan izanen da.
URL:https://www.lanartea.eus/agenda/lumi-2/
LOCATION:O-ko Andre Maria Plaza (Iruñea)
CATEGORIES:kontzertua,Musika
END:VEVENT
END:VCALENDAR