BEGIN:VCALENDAR
VERSION:2.0
PRODID:-//Lanartea - ECPv5.14.0.2//NONSGML v1.0//EN
CALSCALE:GREGORIAN
METHOD:PUBLISH
X-WR-CALNAME:Lanartea
X-ORIGINAL-URL:https://www.lanartea.eus
X-WR-CALDESC:Events for Lanartea
REFRESH-INTERVAL;VALUE=DURATION:PT1H
X-Robots-Tag:noindex
X-PUBLISHED-TTL:PT1H
BEGIN:VTIMEZONE
TZID:Europe/Madrid
BEGIN:DAYLIGHT
TZOFFSETFROM:+0100
TZOFFSETTO:+0200
TZNAME:CEST
DTSTART:20230326T010000
END:DAYLIGHT
BEGIN:STANDARD
TZOFFSETFROM:+0200
TZOFFSETTO:+0100
TZNAME:CET
DTSTART:20231029T010000
END:STANDARD
END:VTIMEZONE
BEGIN:VEVENT
DTSTART;TZID=Europe/Madrid:20230524T203000
DTEND;TZID=Europe/Madrid:20230524T213000
DTSTAMP:20260421T061608
CREATED:20230523T132115Z
LAST-MODIFIED:20230523T132115Z
UID:9138-1684960200-1684963800@www.lanartea.eus
SUMMARY:'Azpimarrak'
DESCRIPTION:Liburu aurkezpena \n\nNere Baldaren Azpimarrak liburuaren aurkezpena. Uxue Razkinek egingo ditu aurkezpenaren gidaritza lanak eta egilea bera ere bertan izango da.
URL:https://www.lanartea.eus/agenda/azpimarrak/
LOCATION:Karrikiri elkartea (Iruñea)
CATEGORIES:aurkezpenak,literatura
END:VEVENT
BEGIN:VEVENT
DTSTART;TZID=Europe/Madrid:20230524T203000
DTEND;TZID=Europe/Madrid:20230524T213000
DTSTAMP:20260421T061608
CREATED:20230523T134228Z
LAST-MODIFIED:20230523T134228Z
UID:9148-1684960200-1684963800@www.lanartea.eus
SUMMARY:'Lavinia' (estreinaldia)
DESCRIPTION:Antzerkia \nLavinia hezur eta mamizkoa da. Bizi da\, arnasa hartzen du eta hitz egiten du\, guk bezalaxe. Baina\, kontua da poeta batek “idatzi egin” zuela. Izan ere\, gizateriaren obra gailenetako baten bigarren mailako pertsonaia bat da\, eta antzeztokian hitza hartu eta istorioaren bere bertsioa kontatzea erabaki du. Txanponaren aurkia\, agerikoa\, Eneas heroi aparta izan bada beti. Ifrentzua ezagutzeko txanda da\, bada. \nIntriga\, misterioa\, maitasuna\, gerra\, estrategia eta natura ditu hizpide Kabia Teatro konpainiaren lan honek. Ursula K. Le Guinen Lavinia eleberria abiapuntu hartuta\, Eneida dakar gogora. Juana Lorren zuzendaritzapean arituko dira oholtzan: Yolanda Bustillo\, Aitor Guisasola\, Amets Ibarra\, Karmele Larrínaga\, Javier Liñera eta Iñaki Urrutia.
URL:https://www.lanartea.eus/agenda/lavinia-estreinaldia-2/
LOCATION:Arriaga Antzokia (Bilbo)
CATEGORIES:Antzerkia,Estreinaldia
ATTACH;FMTTYPE=image/jpeg:https://www.lanartea.eus/wp-content/uploads/2023/05/lavinia-hodei-torres-16-copia-1.jpg
END:VEVENT
END:VCALENDAR