BEGIN:VCALENDAR
VERSION:2.0
PRODID:-//Lanartea - ECPv5.14.0.2//NONSGML v1.0//EN
CALSCALE:GREGORIAN
METHOD:PUBLISH
X-WR-CALNAME:Lanartea
X-ORIGINAL-URL:https://www.lanartea.eus
X-WR-CALDESC:Events for Lanartea
REFRESH-INTERVAL;VALUE=DURATION:PT1H
X-Robots-Tag:noindex
X-PUBLISHED-TTL:PT1H
BEGIN:VTIMEZONE
TZID:Europe/Madrid
BEGIN:DAYLIGHT
TZOFFSETFROM:+0100
TZOFFSETTO:+0200
TZNAME:CEST
DTSTART:20230326T010000
END:DAYLIGHT
BEGIN:STANDARD
TZOFFSETFROM:+0200
TZOFFSETTO:+0100
TZNAME:CET
DTSTART:20231029T010000
END:STANDARD
END:VTIMEZONE
BEGIN:VEVENT
DTSTART;TZID=Europe/Madrid:20230523T200000
DTEND;TZID=Europe/Madrid:20230523T213000
DTSTAMP:20260421T060822
CREATED:20230523T130418Z
LAST-MODIFIED:20230523T130418Z
UID:9130-1684872000-1684877400@www.lanartea.eus
SUMMARY:Garazi Arrula + Esti Martinez
DESCRIPTION:Literatur solasaldia \nGarazi Arrulak Lurraz beste liburua eman berri du\, eta Esti Martinezek Animalia domestikoak. Euren lanei buruz hitz egingo dute\, Uxue Rey kazetariak aurkeztuko du solasaldia.
URL:https://www.lanartea.eus/agenda/garazi-arrula-esti-martinez/
LOCATION:Karrikiri elkartea (Iruñea)
CATEGORIES:literatura,solasaldia
END:VEVENT
BEGIN:VEVENT
DTSTART;TZID=Europe/Madrid:20230523T203000
DTEND;TZID=Europe/Madrid:20230523T213000
DTSTAMP:20260421T060822
CREATED:20230523T131750Z
LAST-MODIFIED:20230523T131750Z
UID:9135-1684873800-1684877400@www.lanartea.eus
SUMMARY:'Lur ilaundun loreak'
DESCRIPTION:Aurkezpena \n2023ko Maiatzaldian Lur ilaundun loreak liburua aurkeztuko du Txomin Heguy idazleak\, Ines Castiella lagun duela eta Joxemiel Bidador poesia taldearekin batera.
URL:https://www.lanartea.eus/agenda/lur-ilaundun-loreak/
LOCATION:Nafar Ateneoa (Iruñea)
CATEGORIES:aurkezpenak,literatura,Poesia
END:VEVENT
END:VCALENDAR