BEGIN:VCALENDAR
VERSION:2.0
PRODID:-//Lanartea - ECPv5.14.0.2//NONSGML v1.0//EN
CALSCALE:GREGORIAN
METHOD:PUBLISH
X-WR-CALNAME:Lanartea
X-ORIGINAL-URL:https://www.lanartea.eus
X-WR-CALDESC:Events for Lanartea
REFRESH-INTERVAL;VALUE=DURATION:PT1H
X-Robots-Tag:noindex
X-PUBLISHED-TTL:PT1H
BEGIN:VTIMEZONE
TZID:Europe/Madrid
BEGIN:DAYLIGHT
TZOFFSETFROM:+0100
TZOFFSETTO:+0200
TZNAME:CEST
DTSTART:20230326T010000
END:DAYLIGHT
BEGIN:STANDARD
TZOFFSETFROM:+0200
TZOFFSETTO:+0100
TZNAME:CET
DTSTART:20231029T010000
END:STANDARD
END:VTIMEZONE
BEGIN:VEVENT
DTSTART;TZID=Europe/Madrid:20230514T210000
DTEND;TZID=Europe/Madrid:20230514T220000
DTSTAMP:20260421T060917
CREATED:20230511T173431Z
LAST-MODIFIED:20230511T173431Z
UID:9106-1684098000-1684101600@www.lanartea.eus
SUMMARY:'Eresia. Lurra arin bekizu\, ama'
DESCRIPTION:Antzerkia \nUdalbiltzaren Geuretik Sortuak bekari esker gauzatu zuen Oier Zuñigak Eresia proiektua\, Eneko Gil dantzaria eta Belen Cruz aktorea oholtzakide zituela. Zurrunbilo jaialdiaren barruan emango dute gaur. \nDolua arintzeko asmoz\, arte praktiken bidez\, nahi bezain besteko dispositiboak aktibatzeko aldarria da obra. Halako egoeretan bizitakoaren errepresentazioa baino\, dolua osatzeko ibilbidea esperientzia multifuntzionaletan garatzeko praktika izan nahi du. Galdu dugun senideak utzitako hutsunea berrosatzeko\, errituek bete dezaketen lekuari so eginez\, hauek berrasmatu eta era askotara bizitzeko gonbita da.
URL:https://www.lanartea.eus/agenda/eresia-lurra-arin-bekizu-ama-7/
LOCATION:Baratze pilotaekua (Segura)
CATEGORIES:Antzerkia
END:VEVENT
END:VCALENDAR