BEGIN:VCALENDAR
VERSION:2.0
PRODID:-//Lanartea - ECPv5.14.0.2//NONSGML v1.0//EN
CALSCALE:GREGORIAN
METHOD:PUBLISH
X-WR-CALNAME:Lanartea
X-ORIGINAL-URL:https://www.lanartea.eus
X-WR-CALDESC:Events for Lanartea
REFRESH-INTERVAL;VALUE=DURATION:PT1H
X-Robots-Tag:noindex
X-PUBLISHED-TTL:PT1H
BEGIN:VTIMEZONE
TZID:Europe/Madrid
BEGIN:DAYLIGHT
TZOFFSETFROM:+0100
TZOFFSETTO:+0200
TZNAME:CEST
DTSTART:20230326T010000
END:DAYLIGHT
BEGIN:STANDARD
TZOFFSETFROM:+0200
TZOFFSETTO:+0100
TZNAME:CET
DTSTART:20231029T010000
END:STANDARD
END:VTIMEZONE
BEGIN:VEVENT
DTSTART;TZID=Europe/Madrid:20230506T120000
DTEND;TZID=Europe/Madrid:20230506T223000
DTSTAMP:20260421T072657
CREATED:20230505T125427Z
LAST-MODIFIED:20230505T131000Z
UID:9070-1683374400-1683412200@www.lanartea.eus
SUMMARY:Literaturia 2023
DESCRIPTION:Literatur azoka \n11:00: Haurrentzako ipuin kontaketa musikatua\, Amaia Elizagoienen eta Irati Celestinoren eskutik\, Etxezabalan. \n11:30-14:00. Liburu azoka eta aurkezpenak\, Lege Zaharren plazako karpan. \n12:30. Loreak Belaunetandokumentalaren emanaldia eta Erreteneko kronikak mahai ingurua\, Modelo aretoan. Gonbidatuak: Amagoia Gurrutxaga\, Koldo Izagirre\, Eneritz Artetxe eta Ainara Azpiazu Axpi. \n17:00-20:00. Liburu azoka eta aurkezpenak\, Lege Zaharren plazako karpan. \n18:00. Hitz esana performance poetikoa\, Ane Garcia eta Eider Perezekin\, Modelo aretoan. \n20:00. Kontzertua\, Modelo aretoan: Kalakan.
URL:https://www.lanartea.eus/agenda/literaturia-2023/
LOCATION:Zarauzko hainbat gunetan
CATEGORIES:Antzerkia,Arte eszenikoak,Bakarrizketa,Bertsolaritza,Dokumentala,Ikus-entzunezkoa,Ilustrazioa,Ipuin kontaketa,Irudigintza,Jaialdia,kontzertua,Mahai-ingurua,Musika,Pentsamendua,solasaldia,Zinema
END:VEVENT
END:VCALENDAR