BEGIN:VCALENDAR
VERSION:2.0
PRODID:-//Lanartea - ECPv5.14.0.2//NONSGML v1.0//EN
CALSCALE:GREGORIAN
METHOD:PUBLISH
X-WR-CALNAME:Lanartea
X-ORIGINAL-URL:https://www.lanartea.eus
X-WR-CALDESC:Events for Lanartea
REFRESH-INTERVAL;VALUE=DURATION:PT1H
X-Robots-Tag:noindex
X-PUBLISHED-TTL:PT1H
BEGIN:VTIMEZONE
TZID:Europe/Madrid
BEGIN:DAYLIGHT
TZOFFSETFROM:+0100
TZOFFSETTO:+0200
TZNAME:CEST
DTSTART:20230326T010000
END:DAYLIGHT
BEGIN:STANDARD
TZOFFSETFROM:+0200
TZOFFSETTO:+0100
TZNAME:CET
DTSTART:20231029T010000
END:STANDARD
END:VTIMEZONE
BEGIN:VEVENT
DTSTART;TZID=Europe/Madrid:20230505T211500
DTEND;TZID=Europe/Madrid:20230505T221500
DTSTAMP:20260421T060808
CREATED:20230505T124815Z
LAST-MODIFIED:20230505T124815Z
UID:9068-1683321300-1683324900@www.lanartea.eus
SUMMARY:'Azken Oturuntza'
DESCRIPTION:Ikuskizun hibridoa \nLiteraturia jaialdia Jon Benitoren manifestu irakurketarekin hasiko da\, 20:00etan\, eta segidan taularatuko dute proposamen berezi hau Haizea eta Oihana Aranak\, Aner Peritzek eta Oihana Vargasek. \nZarauzko euskal letren azokak eten kontzpetua du ardatz aurten\, eta horren inguruko gogoetekin harilkatu dute ikuskizuna\, ahozko literatura -bertsolaritza- literatura idatziaren pasarteak oinarri hartuta.
URL:https://www.lanartea.eus/agenda/azken-oturuntza/
LOCATION:Modelo aretoa (Zarautz)
CATEGORIES:Arte eszenikoak,Bertsoak,Jaialdia,literatura
END:VEVENT
END:VCALENDAR