BEGIN:VCALENDAR
VERSION:2.0
PRODID:-//Lanartea - ECPv5.14.0.2//NONSGML v1.0//EN
CALSCALE:GREGORIAN
METHOD:PUBLISH
X-WR-CALNAME:Lanartea
X-ORIGINAL-URL:https://www.lanartea.eus
X-WR-CALDESC:Events for Lanartea
REFRESH-INTERVAL;VALUE=DURATION:PT1H
X-Robots-Tag:noindex
X-PUBLISHED-TTL:PT1H
BEGIN:VTIMEZONE
TZID:Europe/Madrid
BEGIN:DAYLIGHT
TZOFFSETFROM:+0100
TZOFFSETTO:+0200
TZNAME:CEST
DTSTART:20230326T010000
END:DAYLIGHT
BEGIN:STANDARD
TZOFFSETFROM:+0200
TZOFFSETTO:+0100
TZNAME:CET
DTSTART:20231029T010000
END:STANDARD
END:VTIMEZONE
BEGIN:VEVENT
DTSTART;TZID=Europe/Madrid:20230427T190000
DTEND;TZID=Europe/Madrid:20230427T190000
DTSTAMP:20260421T093248
CREATED:20230420T144037Z
LAST-MODIFIED:20230420T144158Z
UID:8948-1682622000-1682622000@www.lanartea.eus
SUMMARY:'Txizatoki bat eszenatokian'
DESCRIPTION:Antzerkia \n«Duela ehun urte\, Marcel Duchampek txizatoki bat jarri zuen erakusgai museo batean\, eta ekintza horrek artearen kontzeptua kolokan jarri zuen. Zer da artea? Zer da objektu artistikoa? Zer da sortzailea? Nik gaur txizatoki bat jarriko dut eszenatokian. Ekintza sinboliko eta iraultzaile honekin\, antzerkiaren kontzeptua kolokan jarri nahi dut». Asmo arranditsu honekin ematen dio hasiera bere monologoari Patxo Telleria aktore-egileak\, esperientzia ezohiko bat planteatuz: ekintza hasten denean\, antzezlana bukatu da\, eta ikusleak kanpoan daude\, ikusi duten antzezlanari buruzko komentario mingarriak egiten\, aktore-egilea oraindik barruan dagoelarik\, irteteko kemenik gabe\, ikusleen iritziak jasotzeko beldurrez.
URL:https://www.lanartea.eus/agenda/txizatoki-bat-eszenatokian/
LOCATION:Zazpi Katu Gaztetxea
CATEGORIES:Antzerkia
END:VEVENT
END:VCALENDAR