BEGIN:VCALENDAR
VERSION:2.0
PRODID:-//Lanartea - ECPv5.14.0.2//NONSGML v1.0//EN
CALSCALE:GREGORIAN
METHOD:PUBLISH
X-WR-CALNAME:Lanartea
X-ORIGINAL-URL:https://www.lanartea.eus
X-WR-CALDESC:Events for Lanartea
REFRESH-INTERVAL;VALUE=DURATION:PT1H
X-Robots-Tag:noindex
X-PUBLISHED-TTL:PT1H
BEGIN:VTIMEZONE
TZID:Europe/Madrid
BEGIN:DAYLIGHT
TZOFFSETFROM:+0100
TZOFFSETTO:+0200
TZNAME:CEST
DTSTART:20230326T010000
END:DAYLIGHT
BEGIN:STANDARD
TZOFFSETFROM:+0200
TZOFFSETTO:+0100
TZNAME:CET
DTSTART:20231029T010000
END:STANDARD
END:VTIMEZONE
BEGIN:VEVENT
DTSTART;TZID=Europe/Madrid:20230422T210000
DTEND;TZID=Europe/Madrid:20230423T005900
DTSTAMP:20260423T184613
CREATED:20230420T151124Z
LAST-MODIFIED:20230420T151124Z
UID:8969-1682197200-1682211540@www.lanartea.eus
SUMMARY:J Martina + Merina Gris
DESCRIPTION:Kontzertua \nEuren azken lanak ari dira aurkezten Merina Gris eta J Martina hirukoteak. Zerua Orain izena du Merina Grisen diskoak; Jaio Naiz Baina J Martinarenak.
URL:https://www.lanartea.eus/agenda/j-martina-merina-gris-2/
LOCATION:Totem aretoa (Atarrabia)
CATEGORIES:kontzertua,Musika
END:VEVENT
BEGIN:VEVENT
DTSTART;TZID=Europe/Madrid:20230422T210000
DTEND;TZID=Europe/Madrid:20230423T030000
DTSTAMP:20260423T184613
CREATED:20230420T172938Z
LAST-MODIFIED:20230420T173020Z
UID:8990-1682197200-1682218800@www.lanartea.eus
SUMMARY:Pasadena + -Gailu
DESCRIPTION:Jaialdia \nVIII. Poligrafo Fest jaialdian arituko dira: Psadena\, -Gailu\, The daltonics eta Nevadah taldeak.
URL:https://www.lanartea.eus/agenda/pasadena-gailu/
LOCATION:Karpa (Urretxu)
CATEGORIES:Jaialdia,kontzertua,Musika
END:VEVENT
BEGIN:VEVENT
DTSTART;TZID=Europe/Madrid:20230422T223000
DTEND;TZID=Europe/Madrid:20230423T023000
DTSTAMP:20260423T184613
CREATED:20230420T150611Z
LAST-MODIFIED:20230420T150753Z
UID:8963-1682202600-1682217000@www.lanartea.eus
SUMMARY:Ama Say + Lepora
DESCRIPTION:Kontzertua \n30 urtetik gora joan dira Ama Say taldea sortu zirenetik\, eta zuzenean aritzen da noizbehinka oraindik ere. Ero Bomb diskoa plazaratu zuten iaz Bonberenea Ekintzak zigilupean. Lepora taldeak\, berriz\, 2020an argitaratu zuen Lepora diskoa zigilu berarekin.
URL:https://www.lanartea.eus/agenda/ama-say-lepora/
LOCATION:Jimmy Jazz Aretoa (Gasteiz)
CATEGORIES:kontzertua,Musika
END:VEVENT
BEGIN:VEVENT
DTSTART;TZID=Europe/Madrid:20230422T230000
DTEND;TZID=Europe/Madrid:20230423T005900
DTSTAMP:20260423T184613
CREATED:20230420T173512Z
LAST-MODIFIED:20230420T173512Z
UID:8993-1682204400-1682211540@www.lanartea.eus
SUMMARY:Esne Beltza
DESCRIPTION:Kontzertua \nEsne Beltza taldea 2007. urtean sortu zuten Fermin Muguruza kantariarekin aritutako zenbait musikarik\, tartean Xabier Solano trikitilariak (Etzakit\, The Solanos\, 4 Itzal) eta Zigor Lampre disko jartzaileak (Selektah Kolektiboa). Reggae\, rock\, hip hop\, cumbia eta ska doinuak nahasten dituzte.
URL:https://www.lanartea.eus/agenda/esne-beltza-2/
LOCATION:Lazkaoko Karpa
CATEGORIES:kontzertua,Musika
END:VEVENT
BEGIN:VEVENT
DTSTART;TZID=Europe/Madrid:20230422T230000
DTEND;TZID=Europe/Madrid:20230423T023000
DTSTAMP:20260423T184613
CREATED:20230420T152036Z
LAST-MODIFIED:20230420T152036Z
UID:8971-1682204400-1682217000@www.lanartea.eus
SUMMARY:Zaunka + Occhi di Farfalla
DESCRIPTION:Kontzertua \nBikote akustiko gisa sortu zen Occhi di Farfalla 2013an\, eta boskote elektrikoa osatzen duen proiektua da egun. Kanta lasaiek kanta elektriko eta biziagoei egin diete lekua. Iraun diskoa aurkezten ari dira. \nZaunka taldea arituko da euren aurretik. Duela hiru urte hasi zen hirukote hau\, musikaz gain\, antzerkia\, umorea\, inprobisazioak eta bestelako proposamen eszenikoak lantzen. Taldeak sorturiko abestiekin batera\, kantu ezagunen moldaketak jotzen dituzte zuzenekoetan formatu akustikoan.
URL:https://www.lanartea.eus/agenda/zaunka-occhi-di-farfalla/
LOCATION:Arrasateko Gaztetxea
CATEGORIES:kontzertua,Musika
END:VEVENT
BEGIN:VEVENT
DTSTART;TZID=Europe/Madrid:20230422T230000
DTEND;TZID=Europe/Madrid:20230423T030000
DTSTAMP:20260423T184613
CREATED:20230420T172122Z
LAST-MODIFIED:20230420T172225Z
UID:8985-1682204400-1682218800@www.lanartea.eus
SUMMARY:MICE
DESCRIPTION:Kontzertua \nMiren Narbaiza MICE lan berria aurkezteko biran dabil. Lautada izena du lan horrek\, eta Arabako paisaiari eta han begi-bistan gelditu zaizkionei estu lotuta ondu du lana\, Joseba Baleztenarekin batera sortu duen Gakobeltz estudioan. Gaurkoan\, Victimas Club taldea izango du oholtza lagun. \n \n\n\n\n\n\n 
URL:https://www.lanartea.eus/agenda/mice-11/
LOCATION:Portuko Ranpi (Ondarroa)
CATEGORIES:kontzertua,Musika
END:VEVENT
BEGIN:VEVENT
DTSTART;TZID=Europe/Madrid:20230422T230000
DTEND;TZID=Europe/Madrid:20230423T040000
DTSTAMP:20260423T184613
CREATED:20230420T171819Z
LAST-MODIFIED:20230420T171819Z
UID:8982-1682204400-1682222400@www.lanartea.eus
SUMMARY:Dupla + Rotten XIII
DESCRIPTION:Jaiadia \nFreedom For Aiherra jaialdia. Dupla (argazkian)\, Buhos eta Rotten XIII ariko dira zuzenean. Gaualdia girotzeko ardura\, berriz\, DJ Doy disko jartzailearen esku egongo da.
URL:https://www.lanartea.eus/agenda/dupla-rotten-xiii/
LOCATION:Apairiko Plaza (Aiherra)
CATEGORIES:Jaialdia,kontzertua,Musika
END:VEVENT
BEGIN:VEVENT
DTSTART;TZID=Europe/Madrid:20230423T000000
DTEND;TZID=Europe/Madrid:20230423T040000
DTSTAMP:20260423T184613
CREATED:20230420T172516Z
LAST-MODIFIED:20230420T172516Z
UID:8987-1682208000-1682222400@www.lanartea.eus
SUMMARY:Lukiek
DESCRIPTION:Kontzertua \nLukiek taldea Mungiatik dator eta 90eko hamarkadako rockean eta esperimentazioan jarduten du eroso: indarra\, melodia barra-barra eta soinu bereizgarria dauka. Taldekideak gazteak badira ere\, dagoeneko eskarmentua daukate Sara Zozaya\, Belako eta beste talde batzuetan aritzen direlako. 2021ean argitaratu zuten orain arteko azken diskoa: Lukiek #2. Gaurkoan Emaion taldearekin partekatuko dute oholtza.
URL:https://www.lanartea.eus/agenda/lukiek-8/
LOCATION:Lazkaoko Txosnagunea
CATEGORIES:kontzertua,Musika
END:VEVENT
BEGIN:VEVENT
DTSTART;TZID=Europe/Madrid:20230423T120000
DTEND;TZID=Europe/Madrid:20230423T123000
DTSTAMP:20260423T184613
CREATED:20230420T181946Z
LAST-MODIFIED:20230420T182354Z
UID:9040-1682251200-1682253000@www.lanartea.eus
SUMMARY:'O!'
DESCRIPTION:Dantza \nTxikiei zein handiei zuzendutako ikuskizun hau Oihan Indartek edo Ioritz Galarragak interpretatuko solo edo bakarkako lana dugu\, eta Pantxika Telleria dugu koreografiaren arduraduna. Itxitako kupula puzgarri baten (4m50eko gutxieneko garaierarekin) azpiko gunea baliatuz\, mugimenduaren eta mugimeduak argiarekin duen loturaren bidez harridura txundigarria eragiten dute. Nola txunditzen gaitu haurtzaroak? Bat-batean ageri zaigu hori guztia eta ikusle gisa izango gara horren guztiaren jakitun lan koreografiko aldi berean abstraktu eta poetikoaren aurrean.
URL:https://www.lanartea.eus/agenda/o-2/
LOCATION:Plaza Gizon Gela (Maule-Lextarre)
CATEGORIES:Dantza
END:VEVENT
BEGIN:VEVENT
DTSTART;TZID=Europe/Madrid:20230423T200000
DTEND;TZID=Europe/Madrid:20230423T210000
DTSTAMP:20260423T184613
CREATED:20230420T142530Z
LAST-MODIFIED:20230420T142530Z
UID:8937-1682280000-1682283600@www.lanartea.eus
SUMMARY:'Erradikalak ginen'
DESCRIPTION:Bertso-antzerkia \nNeska gazte promesa etiketaz\, zahartzeaz\, gorputzaren aldaketez\, sexualitateaz\, merkatu patriarkalaz\, intersekzionalitateaz\, beldurraz\, biolentziaz eta zeharkatzen gaituzten beste hainbat gaiz kantatu eta kontatu nahi dute Beatriz Egizabal aktoreak eta Ane Labaka Mayoz bertsolariak. Feminismoa zeharlerrotzat hartuta eta umorez. Umoreaz\, beraz\, serio.
URL:https://www.lanartea.eus/agenda/erradikalak-ginen-4/
LOCATION:Astra (Gernika-Lumo)
CATEGORIES:Antzerkia,Bertsolaritza
END:VEVENT
BEGIN:VEVENT
DTSTART;TZID=Europe/Madrid:20230423T200000
DTEND;TZID=Europe/Madrid:20230423T210000
DTSTAMP:20260423T184613
CREATED:20230420T150000Z
LAST-MODIFIED:20230420T150000Z
UID:8961-1682280000-1682283600@www.lanartea.eus
SUMMARY:Ruper Ordorika
DESCRIPTION:Kontzertua \nEuskal musikaren erraldoi hau bakarka arituko da gaurkoan. Amour eta Toujours diskoa aurkezteko biran dabil azken hilebeteotan.
URL:https://www.lanartea.eus/agenda/ruper-ordorika-15/
LOCATION:Debako Kultur Etxea
CATEGORIES:kontzertua,Musika
END:VEVENT
BEGIN:VEVENT
DTSTART;TZID=Europe/Madrid:20230423T200000
DTEND;TZID=Europe/Madrid:20230423T213000
DTSTAMP:20260423T184613
CREATED:20230420T180430Z
LAST-MODIFIED:20230420T180430Z
UID:9030-1682280000-1682285400@www.lanartea.eus
SUMMARY:Bertsoak Donostian
DESCRIPTION:Bertso saio literarioa \nLiburuaren Nazioarteko Egunean.  Bertsolariak: Oihana Arana\, Nerea Ibarzabal. Gai-jartzailea: Amaia Agirre
URL:https://www.lanartea.eus/agenda/bertsoak-donostian-17/
LOCATION:Gipuzkoa Plaza (Donostia)
CATEGORIES:Bertsoak,Bertsolaritza
END:VEVENT
BEGIN:VEVENT
DTSTART;TZID=Europe/Madrid:20230423T210000
DTEND;TZID=Europe/Madrid:20230423T220000
DTSTAMP:20260423T184613
CREATED:20230420T142316Z
LAST-MODIFIED:20230420T142316Z
UID:8935-1682283600-1682287200@www.lanartea.eus
SUMMARY:'Intxaurra'
DESCRIPTION:Antzerkia \nLesakako Mairu antzerki taldearen obra\, UEMAren Arnasguneak antzerki sorkuntzarako bekari esker ondua. Gaizka Sarasolak idatzi du gidoia; Josune Etxepare\, Ainara Ribera\, Ritxi Abril\, Iban Garro\, Juanen Saralegi eta Gaizka Sarasola bera dira protagonistak. \nSinopsia: Terexa gaixorik dago\, baina bera ez du bere osasun egoerak arduratzen. Etxeko intxaurrondoaren osasunak kezkatzen du. Intxaurrondoak ere gaitza badu. Onddoren batek kalte egiten dio\, eta fruituak\, kanpoko azal eta guzi erortzen dira lurrera. Azalak intxaurrak ito eta usteltzen ditu. Terexak ez du sendagaiarekin asmatzen. Larritasunak\, gaixotasunarekin batera\, Terexa itotzen du. Gero eta nekezagoa zaio arnasa hartzea.
URL:https://www.lanartea.eus/agenda/intxaurra-2/
LOCATION:Bil Etxea (Baigorri)
CATEGORIES:Antzerkia
END:VEVENT
END:VCALENDAR