BEGIN:VCALENDAR
VERSION:2.0
PRODID:-//Lanartea - ECPv5.14.0.2//NONSGML v1.0//EN
CALSCALE:GREGORIAN
METHOD:PUBLISH
X-WR-CALNAME:Lanartea
X-ORIGINAL-URL:https://www.lanartea.eus
X-WR-CALDESC:Events for Lanartea
REFRESH-INTERVAL;VALUE=DURATION:PT1H
X-Robots-Tag:noindex
X-PUBLISHED-TTL:PT1H
BEGIN:VTIMEZONE
TZID:Europe/Madrid
BEGIN:DAYLIGHT
TZOFFSETFROM:+0100
TZOFFSETTO:+0200
TZNAME:CEST
DTSTART:20230326T010000
END:DAYLIGHT
BEGIN:STANDARD
TZOFFSETFROM:+0200
TZOFFSETTO:+0100
TZNAME:CET
DTSTART:20231029T010000
END:STANDARD
END:VTIMEZONE
BEGIN:VEVENT
DTSTART;TZID=Europe/Madrid:20230420T190000
DTEND;TZID=Europe/Madrid:20230420T203000
DTSTAMP:20260423T184529
CREATED:20230420T141617Z
LAST-MODIFIED:20230420T141617Z
UID:8930-1682017200-1682022600@www.lanartea.eus
SUMMARY:'Hitzak eta doinuak'
DESCRIPTION:Errezitaldi musikatua \nBilboko unibertsitatean 1977an elkar ezagutu eta gero\, hainbat egitasmotan bidaide izan dira Joseba Sarrionandia eta Ruper Ordorika: Pott Banda hasteko; eta\, geroztik hainbat kantu eta testu ondu dituzte elkarrekin.
URL:https://www.lanartea.eus/agenda/hitzak-eta-doinuak/
LOCATION:Euskal Museoa (Baiona)
CATEGORIES:Errezitaldia,literatura,Musika
END:VEVENT
BEGIN:VEVENT
DTSTART;TZID=Europe/Madrid:20230420T220000
DTEND;TZID=Europe/Madrid:20230421T003000
DTSTAMP:20260423T184529
CREATED:20230420T174032Z
LAST-MODIFIED:20230420T174039Z
UID:8997-1682028000-1682037000@www.lanartea.eus
SUMMARY:Bertsoak Beasainen
DESCRIPTION:Bertso afaria \nTriki poteoaren ondoren.  Bertsolariak: Amets Arzallus\, Iker Zubeldia  \n 
URL:https://www.lanartea.eus/agenda/bertsoak-beasainen-3/
LOCATION:Aizkorri Elkartea (Beasain)
CATEGORIES:Bertso saioa,Bertsoak,Bertsolaritza
END:VEVENT
BEGIN:VEVENT
DTSTART;TZID=Europe/Madrid:20230420T230000
DTEND;TZID=Europe/Madrid:20230421T003000
DTSTAMP:20260423T184529
CREATED:20230420T142016Z
LAST-MODIFIED:20230420T142016Z
UID:8932-1682031600-1682037000@www.lanartea.eus
SUMMARY:Janus Lester
DESCRIPTION:Kontzertua \nJanus Lester Jokin Pinatxoren proiektu berria da. Mattin Arbelaitz (bateria)\, Garazi Esnaola (teklak)\, Ane Bastida (baxua)\, Gorka Urra (gitarra)\, Julen Suarez (tronpeta) eta Andoni Arriola (tronboia) ditu taldekide.
URL:https://www.lanartea.eus/agenda/janus-lester/
LOCATION:Arrasateko Gaztetxea
CATEGORIES:kontzertua,Musika
END:VEVENT
END:VCALENDAR