BEGIN:VCALENDAR
VERSION:2.0
PRODID:-//Lanartea - ECPv5.14.0.2//NONSGML v1.0//EN
CALSCALE:GREGORIAN
METHOD:PUBLISH
X-WR-CALNAME:Lanartea
X-ORIGINAL-URL:https://www.lanartea.eus
X-WR-CALDESC:Events for Lanartea
REFRESH-INTERVAL;VALUE=DURATION:PT1H
X-Robots-Tag:noindex
X-PUBLISHED-TTL:PT1H
BEGIN:VTIMEZONE
TZID:Europe/Madrid
BEGIN:DAYLIGHT
TZOFFSETFROM:+0100
TZOFFSETTO:+0200
TZNAME:CEST
DTSTART:20230326T010000
END:DAYLIGHT
BEGIN:STANDARD
TZOFFSETFROM:+0200
TZOFFSETTO:+0100
TZNAME:CET
DTSTART:20231029T010000
END:STANDARD
END:VTIMEZONE
BEGIN:VEVENT
DTSTART;TZID=Europe/Madrid:20230329T200000
DTEND;TZID=Europe/Madrid:20230329T210000
DTSTAMP:20260421T075602
CREATED:20230320T191127Z
LAST-MODIFIED:20230320T191127Z
UID:8815-1680120000-1680123600@www.lanartea.eus
SUMMARY:'Magma Mia'
DESCRIPTION:Antzerkia \nHankarte bat\, lehertzen ari den sumendi bat hankartean\, eta laba goian eta behean. Hala irudikatu du Beatriz Egizabal aktore eta umoristak (Lasarte-Oria\, 1971) bakarrizketa berria: Magma mia. Iazko Feministaldirako sortu zuen\, eguneroko hainbat egoeraren atzean patriarkatua dagoela erakusteko. Ikuspegi feminista eta umorea uztartu ditu\, ikusleari barre eragiteko bai\, baina baita pentsarazteko ere.
URL:https://www.lanartea.eus/agenda/magma-mia-7/
LOCATION:Nafarroako Antzerki Eskola (Iruñea)
CATEGORIES:Antzerkia
END:VEVENT
END:VCALENDAR