BEGIN:VCALENDAR
VERSION:2.0
PRODID:-//Lanartea - ECPv5.14.0.2//NONSGML v1.0//EN
CALSCALE:GREGORIAN
METHOD:PUBLISH
X-WR-CALNAME:Lanartea
X-ORIGINAL-URL:https://www.lanartea.eus
X-WR-CALDESC:Events for Lanartea
REFRESH-INTERVAL;VALUE=DURATION:PT1H
X-Robots-Tag:noindex
X-PUBLISHED-TTL:PT1H
BEGIN:VTIMEZONE
TZID:Europe/Madrid
BEGIN:DAYLIGHT
TZOFFSETFROM:+0100
TZOFFSETTO:+0200
TZNAME:CEST
DTSTART:20230326T010000
END:DAYLIGHT
BEGIN:STANDARD
TZOFFSETFROM:+0200
TZOFFSETTO:+0100
TZNAME:CET
DTSTART:20231029T010000
END:STANDARD
END:VTIMEZONE
BEGIN:VEVENT
DTSTART;TZID=Europe/Madrid:20230326T200000
DTEND;TZID=Europe/Madrid:20230326T210000
DTSTAMP:20260423T145501
CREATED:20230320T184942Z
LAST-MODIFIED:20230320T184942Z
UID:8807-1679860800-1679864400@www.lanartea.eus
SUMMARY:'Magma Mia'
DESCRIPTION:Antzerkia \nHankarte bat\, lehertzen ari den sumendi bat hankartean\, eta laba goian eta behean. Hala irudikatu du Beatriz Egizabal aktore eta umoristak (Lasarte-Oria\, 1971) bakarrizketa berria: Magma mia. Iazko Feministaldirako sortu zuen\, eguneroko hainbat egoeraren atzean patriarkatua dagoela erakusteko. Ikuspegi feminista eta umorea uztartu ditu\, ikusleari barre eragiteko bai\, baina baita pentsarazteko ere.
URL:https://www.lanartea.eus/agenda/magma-mia-6/
LOCATION:Arantzazu Kultur Gunea
CATEGORIES:Antzerkia
END:VEVENT
BEGIN:VEVENT
DTSTART;TZID=Europe/Madrid:20230326T200000
DTEND;TZID=Europe/Madrid:20230326T213000
DTSTAMP:20260423T145501
CREATED:20230320T184615Z
LAST-MODIFIED:20230320T184615Z
UID:8805-1679860800-1679866200@www.lanartea.eus
SUMMARY:'Lagun beltz asko'
DESCRIPTION:Antzerkia \n\nHemen ez gara arrazistak. Hemen denok ditugu lagun beltz asko. Eta gauza asko entzuten da\, gero eta delinkuentzia gehiago dagoela\, jende horrek lana kenduko digula entzuten da. \nBerandu da. Kalean ez dabil inor. Ixtear doan taberna arrunt batean gertatzen da istorioa. Barruan\, tabernako jabea eta bere lagun hoberena azkena hartzen ari dira. Oso lagun dirudite baina sekretuak eta traizioak ezkutatzen dizkiote batak besteari. Bat-batean\, galduta dagoen migratzaile batek atea jotzen du eta mugikorra kargatzen uztea eskatzen die\, Londresen dagoen alabarekin hitz egin ahal izateko. Mugikorrik gabe ezin du ez alabarekin hitz egin ezta bere bidaiarekin jarraitu ere. \nHorixe da Garbi Losadak idatzi eta zuzendu eta Ados Teatroak ekoitzi duen lanaren abiapuntua. Ramon Ibarra\, Asier Hormaza eta Josu Ormaetxe dira aktore protagonistak.
URL:https://www.lanartea.eus/agenda/lagun-beltz-asko-7/
LOCATION:Galdakaoko Kultur Etxea
CATEGORIES:Antzerkia
END:VEVENT
END:VCALENDAR