BEGIN:VCALENDAR
VERSION:2.0
PRODID:-//Lanartea - ECPv5.14.0.2//NONSGML v1.0//EN
CALSCALE:GREGORIAN
METHOD:PUBLISH
X-WR-CALNAME:Lanartea
X-ORIGINAL-URL:https://www.lanartea.eus
X-WR-CALDESC:Events for Lanartea
REFRESH-INTERVAL;VALUE=DURATION:PT1H
X-Robots-Tag:noindex
X-PUBLISHED-TTL:PT1H
BEGIN:VTIMEZONE
TZID:Europe/Madrid
BEGIN:DAYLIGHT
TZOFFSETFROM:+0100
TZOFFSETTO:+0200
TZNAME:CEST
DTSTART:20230326T010000
END:DAYLIGHT
BEGIN:STANDARD
TZOFFSETFROM:+0200
TZOFFSETTO:+0100
TZNAME:CET
DTSTART:20231029T010000
END:STANDARD
END:VTIMEZONE
BEGIN:VEVENT
DTSTART;TZID=Europe/Madrid:20230321T190000
DTEND;TZID=Europe/Madrid:20230321T200000
DTSTAMP:20260426T034449
CREATED:20230320T125741Z
LAST-MODIFIED:20230320T125741Z
UID:8767-1679425200-1679428800@www.lanartea.eus
SUMMARY:'Elur Zuriren hiru heriotzak'
DESCRIPTION:Antzerkia \nKhontaira konpainiak Grim anaien eskuizkribu zahar bat eta Bela Bartokek ekialdeko Europan jasotako Erdi Aroko doinu mestizoetan aurkitu du sormen iturria. Sorkuntza honek teatroa\, musika eta dantza uztartzen ditu eta testua Ander Berrojalbizek eta Joseba Sarrionandiak idatzia dute. Loraldia jaialdiaren barruan eskainiko da.
URL:https://www.lanartea.eus/agenda/elur-zuriren-hiru-heriotzak/
LOCATION:Azkuna Zentroa (Bilbo)
CATEGORIES:Antzerkia,Dantza,literatura,Musika
END:VEVENT
BEGIN:VEVENT
DTSTART;TZID=Europe/Madrid:20230321T190000
DTEND;TZID=Europe/Madrid:20230321T200000
DTSTAMP:20260426T034449
CREATED:20230320T192320Z
LAST-MODIFIED:20230320T192320Z
UID:8817-1679425200-1679428800@www.lanartea.eus
SUMMARY:'Soneto bat irakurtzeko 20 modu'
DESCRIPTION:Poesia musikatua \nHarkaitz Canoren Pozaren erdia soneto-bilduma oinarri hartuta\, hitz\, hots\, soinu\, doinu eta kantuen arteko zirrikituetan barna jolasean arituko dira bi musikariak eta idazlea\, molde klasikoetatik musika urbanora arteko txangoa eginez.
URL:https://www.lanartea.eus/agenda/soneto-bat-irakurtzeko-20-modu/
LOCATION:Viktoria Eugenia Antzokiko Klub aretoa (Donostia)
CATEGORIES:Errezitaldia,literatura,Musika,Poesia
END:VEVENT
BEGIN:VEVENT
DTSTART;TZID=Europe/Madrid:20230321T193000
DTEND;TZID=Europe/Madrid:20230321T203000
DTSTAMP:20260426T034449
CREATED:20230320T140831Z
LAST-MODIFIED:20230320T140831Z
UID:8771-1679427000-1679430600@www.lanartea.eus
SUMMARY:'Sagastitarrak'
DESCRIPTION:Antzerkia \nSagastitarrena familia diruduna da\, eta euren alabarekin ez da giro. Anek\, ekintzaile feministak\, bere lehen abizena aldatzea erabaki du\, eta amarenaren alde egin du. Anton Sagasti familia-buruarentzat\, ulertezina da eskualdean tradizio handikoa den Sagasti abizena aldatu nahi izatea. \nTxalo Produkzioak-en ekoizpen honetan\, Begoña Bilbaoren zuzendaritzapean ari dira aktore lanetan: Joseba Apaolaza\, Ainhoa Etxebarria eta Koldo Olabarri.
URL:https://www.lanartea.eus/agenda/sagastitarrak-8/
LOCATION:Biteri Kultur Etxea (Hernani)
CATEGORIES:Antzerkia
END:VEVENT
END:VCALENDAR