BEGIN:VCALENDAR
VERSION:2.0
PRODID:-//Lanartea - ECPv5.14.0.2//NONSGML v1.0//EN
CALSCALE:GREGORIAN
METHOD:PUBLISH
X-WR-CALNAME:Lanartea
X-ORIGINAL-URL:https://www.lanartea.eus
X-WR-CALDESC:Events for Lanartea
REFRESH-INTERVAL;VALUE=DURATION:PT1H
X-Robots-Tag:noindex
X-PUBLISHED-TTL:PT1H
BEGIN:VTIMEZONE
TZID:Europe/Madrid
BEGIN:DAYLIGHT
TZOFFSETFROM:+0100
TZOFFSETTO:+0200
TZNAME:CEST
DTSTART:20230326T010000
END:DAYLIGHT
BEGIN:STANDARD
TZOFFSETFROM:+0200
TZOFFSETTO:+0100
TZNAME:CET
DTSTART:20231029T010000
END:STANDARD
END:VTIMEZONE
BEGIN:VEVENT
DTSTART;TZID=Europe/Madrid:20230128T110000
DTEND;TZID=Europe/Madrid:20230128T123000
DTSTAMP:20260422T172444
CREATED:20230124T195058Z
LAST-MODIFIED:20230124T195131Z
UID:8692-1674903600-1674909000@www.lanartea.eus
SUMMARY:'Zurian beltz. Literatur itzulpenak eta itzulpozak'
DESCRIPTION:Mahai-ingurua \nGarazi Arrulak eta Garazi Ugaldek mahai-inguruan parte hartuko dute\, Amaia Apalauza itzultzailea gidari dutela\, (H)ilbeltza Euskal Nobela Beltzaren Astearen barruan.
URL:https://www.lanartea.eus/agenda/8692/
LOCATION:Arizkunenea Kultur Etxea (Elizondo)
CATEGORIES:Itzulpena,literatura,Mahai-ingurua
END:VEVENT
BEGIN:VEVENT
DTSTART;TZID=Europe/Madrid:20230128T190000
DTEND;TZID=Europe/Madrid:20230128T203000
DTSTAMP:20260422T172444
CREATED:20230124T183537Z
LAST-MODIFIED:20230124T183537Z
UID:8658-1674932400-1674937800@www.lanartea.eus
SUMMARY:'Forever'
DESCRIPTION:Antzerkia \nKulunka Teatro konpainiak maskaren hizkuntza isilaren aldeko apustua egin du berriro ere\, samurtasuna eta gordintasuna uztartzen dituen ikuskizun berrian. Amestu zutenetik urruntzen ari den betiko familia baten istorioa da Forever. Maitasunaren kontraesanak umorez eta ironiaz erakutsiz\, gurasotasuna\, hezkuntza\, ezintasuna\, gehiegizko babesa\, sexualitatea edo indarkeria bezalako gaiak lantzen ditu. Plataforma birakari baten gainean eta oso hizkuntza zinematografikoari helduz\, antzezlana karrusel bat da; bizitzaren noria. Baina bada\, baita ere\, espiral bat\, biratu ahala\, bere protagonisten minaren barruan sakontzen duena. \nKulunka konpainiak Espainiako Zentro Dramatiko Nazionalarekin\, Bilboko Arriaga Antzokiarekin eta Donostiako Victoria Eugenia Antzokiarekin batera ekoitzi du lan hau.
URL:https://www.lanartea.eus/agenda/forever/
LOCATION:Arriaga Antzokia (Bilbo)
CATEGORIES:Antzerkia
END:VEVENT
BEGIN:VEVENT
DTSTART;TZID=Europe/Madrid:20230128T193000
DTEND;TZID=Europe/Madrid:20230128T210000
DTSTAMP:20260422T172444
CREATED:20230124T184428Z
LAST-MODIFIED:20230124T184428Z
UID:8675-1674934200-1674939600@www.lanartea.eus
SUMMARY:'Hobe ixilik'
DESCRIPTION:Antzerkia \nEmakumea eta gizona. Gizona eta emakumea. Solasean\, zirika\, eztabaidan. Zertaz? Berdin dio. Eguneroko kontuak: gazta-tarta\, patinetea\, almorranak… edo gai potoloak: aldaketa klimatikoa\, politika\, Me Too… \nBaina esan\, dena esan behar al da? Ixiltzea ez al da hobe batzutan? \nBegoña Bilbaok zuzendu du Salome Lelouchen gidoiaren egokitzapen hau\, Txalo Produkzioak-ekin\, eta Itziar Ituño eta Ramon Agirre arituko dira aktore lanetan.
URL:https://www.lanartea.eus/agenda/hobe-ixilik-6/
LOCATION:Viktoria Eugenia Antzokia (Donostia)
CATEGORIES:Antzerkia
END:VEVENT
BEGIN:VEVENT
DTSTART;TZID=Europe/Madrid:20230128T200000
DTEND;TZID=Europe/Madrid:20230128T210000
DTSTAMP:20260422T172444
CREATED:20230124T183430Z
LAST-MODIFIED:20230124T183430Z
UID:8656-1674936000-1674939600@www.lanartea.eus
SUMMARY:'Winona & Grace'
DESCRIPTION:Antzerkia \nBi aktore gazte zuzendari ezagun baten etxean esnatzen dira\, gau festa zoro baten ondoren; burua nahastuta eta pixkat mozkor oraindik\, bakarrik eta apartamentuan giltzapetuta daudela ohartzen dira. Hortaz\, patua onartu eta denbora tarte hori elkarrekin bizitzea erabakitzen dute\, elkar deskubritzeko eta guk nortzuk diren ezagutzeko balioko duten ordu batzuk: gizarte eta lanpostu kapitalista eta konpetitibo honetan euren tokia bilatzeko borrokan ari diren bi emakume gazte\, hain zuzen ere. \nWinona & Grace antzezlana aktore izatearen eta bizitza arteari eskaintzearen auziaren inguruko testua da. Ainhoa Artetxe eta Gracieñas Doniz dira Khea Ziater konpainiaren obrako bi protagonistak. Testuen egileak ere badira\, Alex Gerediagarekin batera. Gerediaga da\, hain zuzen ere\, obraren zuzendaria.
URL:https://www.lanartea.eus/agenda/winona-grace-9/
LOCATION:Amurrioko Antzokia
CATEGORIES:Antzerkia
END:VEVENT
BEGIN:VEVENT
DTSTART;TZID=Europe/Madrid:20230128T200000
DTEND;TZID=Europe/Madrid:20230128T210000
DTSTAMP:20260422T172444
CREATED:20230124T184951Z
LAST-MODIFIED:20230124T184951Z
UID:8681-1674936000-1674939600@www.lanartea.eus
SUMMARY:'Komedia madarikatua'
DESCRIPTION:Antzerkia \nPabellon 6eko Gazte Konpainiak ‘egokitu du Tomas Afan egile sarituaren Tríptico infernal testua. Idoia Barrondok ekarri du euskarara\, Saioa Irribarren Muñozek egin ditu zuzendari lanak eta hauek dira aktore taldea osatzen dutenak: Silvia Larrauri de Miguel\, Luix Mitxelena Mitxelena\, Andrea Mora Ahedo\, Uxue Fuertes Vega\, Ziggy Docherty Sanchez eta Aitzol Villahoz Prieto.
URL:https://www.lanartea.eus/agenda/komedia-madarikatua/
LOCATION:Pabellon 6 (Bilbo)
CATEGORIES:Antzerkia
END:VEVENT
END:VCALENDAR