BEGIN:VCALENDAR
VERSION:2.0
PRODID:-//Lanartea - ECPv5.14.0.2//NONSGML v1.0//EN
CALSCALE:GREGORIAN
METHOD:PUBLISH
X-WR-CALNAME:Lanartea
X-ORIGINAL-URL:https://www.lanartea.eus
X-WR-CALDESC:Events for Lanartea
REFRESH-INTERVAL;VALUE=DURATION:PT1H
X-Robots-Tag:noindex
X-PUBLISHED-TTL:PT1H
BEGIN:VTIMEZONE
TZID:Europe/Madrid
BEGIN:DAYLIGHT
TZOFFSETFROM:+0100
TZOFFSETTO:+0200
TZNAME:CEST
DTSTART:20230326T010000
END:DAYLIGHT
BEGIN:STANDARD
TZOFFSETFROM:+0200
TZOFFSETTO:+0100
TZNAME:CET
DTSTART:20231029T010000
END:STANDARD
END:VTIMEZONE
BEGIN:VEVENT
DTSTART;TZID=Europe/Madrid:20230123T193000
DTEND;TZID=Europe/Madrid:20230123T203000
DTSTAMP:20260424T124123
CREATED:20230116T144027Z
LAST-MODIFIED:20230116T144120Z
UID:8590-1674502200-1674505800@www.lanartea.eus
SUMMARY:Itziar Ugarte eta Iban Yaniz
DESCRIPTION:Errezitaldi musikatua \n\nOñatiarrak dira Itziar Ugarte eta Iban Yaniz artistak\, eta berrikitan argitaratu dituzte beren azken lanak. Gu gabe ere poema liburua Ugartek\, eta Itzaletik argira diskoa Yanizek. Une bat adierazten du Itziar Ugarteren lehen poema-liburuak\, irabazteko den-dena daukagun baina den-dena galtzeko beldurra sentitzen dugun une hori. Yanizek\, berriz\, tempo erlaxatua eta instrumentu akustikoak batu ditu bakarlari gisa egin duen lehenbiziko diskoan.Errezital akustikoa izango da\, non Ugartek eta Yanizek txandaka azalduko dituzten beren lanak\, Koldo Lizarralde musikari antzuolarra lagun dutela.
URL:https://www.lanartea.eus/agenda/itziar-ugarte-eta-iban-yaniz/
LOCATION:Arriaga Antzokia (Bilbo)
CATEGORIES:Errezitaldia,Musika,Poesia
END:VEVENT
BEGIN:VEVENT
DTSTART;TZID=Europe/Madrid:20230123T193000
DTEND;TZID=Europe/Madrid:20230123T210000
DTSTAMP:20260424T124123
CREATED:20230123T152403Z
LAST-MODIFIED:20230123T152403Z
UID:8647-1674502200-1674507600@www.lanartea.eus
SUMMARY:'Suak erreko ez balu'
DESCRIPTION:Nobela aurkezpena \n(H)ilbeltza Euskal Nobela Beltzaren Astea Eneko Barnerenaren lan berriaren inguruko aurkezpen solasaldiarekin hasiko da. Ez alferrik\, V. (H)ilbeltza Beka irabazi izanari esker idatzi du nobela Barberenak.
URL:https://www.lanartea.eus/agenda/suak-erreko-ez-balu/
LOCATION:Medikuaren Etxea (Arizkun)
CATEGORIES:aurkezpenak,Jaialdia,literatura,Nobela
ATTACH;FMTTYPE=image/jpeg:https://www.lanartea.eus/wp-content/uploads/2023/01/Barberena_suak_erreko.jpg
END:VEVENT
END:VCALENDAR