BEGIN:VCALENDAR
VERSION:2.0
PRODID:-//Lanartea - ECPv5.14.0.2//NONSGML v1.0//EN
CALSCALE:GREGORIAN
METHOD:PUBLISH
X-WR-CALNAME:Lanartea
X-ORIGINAL-URL:https://www.lanartea.eus
X-WR-CALDESC:Events for Lanartea
REFRESH-INTERVAL;VALUE=DURATION:PT1H
X-Robots-Tag:noindex
X-PUBLISHED-TTL:PT1H
BEGIN:VTIMEZONE
TZID:Europe/Madrid
BEGIN:DAYLIGHT
TZOFFSETFROM:+0100
TZOFFSETTO:+0200
TZNAME:CEST
DTSTART:20230326T010000
END:DAYLIGHT
BEGIN:STANDARD
TZOFFSETFROM:+0200
TZOFFSETTO:+0100
TZNAME:CET
DTSTART:20231029T010000
END:STANDARD
END:VTIMEZONE
BEGIN:VEVENT
DTSTART;TZID=Europe/Madrid:20230119T190000
DTEND;TZID=Europe/Madrid:20230119T200000
DTSTAMP:20260424T160124
CREATED:20230118T125140Z
LAST-MODIFIED:20230118T125140Z
UID:8620-1674154800-1674158400@www.lanartea.eus
SUMMARY:'Txillardegiren kronikak'
DESCRIPTION:Literatur solasaldia \nJose Luis Alvarez Enparantza Txillardegi idazle\, hizkuntzalari eta politikariak 1968tik 1986ra bitartean idatzi zituen kronikak biltzen dituen liburua da Txillardegiren Kronikak. Koldo Izagirrek eta Juan Luis Zabalak eguneratu dituzte testuak eta Susa argitaletxeak plazaratu zuen iaz\, Txilardegiren heriotzaren hamargarren urteurrenaren harira. Izagirrek eta Zabalak aurkeztuko dute\, bada\, liburua.
URL:https://www.lanartea.eus/agenda/txillardegiren-kronikak-2/
LOCATION:Garoa liburudenda (Zarautz)
CATEGORIES:Kazetaritza,Kronika,literatura
END:VEVENT
BEGIN:VEVENT
DTSTART;TZID=Europe/Madrid:20230119T213000
DTEND;TZID=Europe/Madrid:20230120T010000
DTSTAMP:20260424T160124
CREATED:20230116T152056Z
LAST-MODIFIED:20230116T152056Z
UID:8615-1674163800-1674176400@www.lanartea.eus
SUMMARY:Sua + Kokein
DESCRIPTION:Kontzertua \n1999. urtean sortu zen Kokein taldea\, Eibarren\, eta geroztik etenik gabe aritu dira emanaldiak eskaintzen eta diskoak argitaratzen. 2022ko neguan ikusi zuen argia beren estudioko lan berriak: Atomika. Sua rock taldeak ere lan berria argitaratu du berriki: Gorde Genituen Beldurrak.
URL:https://www.lanartea.eus/agenda/sua-kokein/
LOCATION:Bilboko Kafe Antzokia
CATEGORIES:kontzertua,Musika
END:VEVENT
END:VCALENDAR