BEGIN:VCALENDAR
VERSION:2.0
PRODID:-//Lanartea - ECPv5.14.0.2//NONSGML v1.0//EN
CALSCALE:GREGORIAN
METHOD:PUBLISH
X-WR-CALNAME:Lanartea
X-ORIGINAL-URL:https://www.lanartea.eus
X-WR-CALDESC:Events for Lanartea
REFRESH-INTERVAL;VALUE=DURATION:PT1H
X-Robots-Tag:noindex
X-PUBLISHED-TTL:PT1H
BEGIN:VTIMEZONE
TZID:Europe/Madrid
BEGIN:DAYLIGHT
TZOFFSETFROM:+0100
TZOFFSETTO:+0200
TZNAME:CEST
DTSTART:20230326T010000
END:DAYLIGHT
BEGIN:STANDARD
TZOFFSETFROM:+0200
TZOFFSETTO:+0100
TZNAME:CET
DTSTART:20231029T010000
END:STANDARD
END:VTIMEZONE
BEGIN:VEVENT
DTSTART;TZID=Europe/Madrid:20230118T183000
DTEND;TZID=Europe/Madrid:20230118T190000
DTSTAMP:20260424T124125
CREATED:20230116T140756Z
LAST-MODIFIED:20230116T140756Z
UID:8570-1674066600-1674068400@www.lanartea.eus
SUMMARY:'Mare: Ilargiari poemak'
DESCRIPTION:Aurkezpena \nMARE: ILARGIARI POEMAK liburuaren aurkezpena\, Xabier Xalaberriak gidaturik\, Joseba Sarrionandiarekin eta hainbat poetarekin batera.
URL:https://www.lanartea.eus/agenda/mare-ilargiari-poemak/
LOCATION:Bira Kultur Gunea (Bilbo)
CATEGORIES:aurkezpenak,literatura,Poesia
END:VEVENT
BEGIN:VEVENT
DTSTART;TZID=Europe/Madrid:20230118T190000
DTEND;TZID=Europe/Madrid:20230118T203000
DTSTAMP:20260424T124125
CREATED:20230116T140526Z
LAST-MODIFIED:20230116T140611Z
UID:8568-1674068400-1674073800@www.lanartea.eus
SUMMARY:'Zer ote da kanpotarra izatea?'
DESCRIPTION:Hitzaldia \nJoseba Sarrionandia idazlea hizlari\, Agora Filosofia elkarteak antolaturik.
URL:https://www.lanartea.eus/agenda/zer-ote-da-kanpotarra-izatea/
LOCATION:Bira Kultur Gunea (Bilbo)
CATEGORIES:Filosofia,Hitzaldia,literatura
END:VEVENT
BEGIN:VEVENT
DTSTART;TZID=Europe/Madrid:20230118T190000
DTEND;TZID=Europe/Madrid:20230118T203000
DTSTAMP:20260424T124125
CREATED:20230116T152242Z
LAST-MODIFIED:20230116T152242Z
UID:8617-1674068400-1674073800@www.lanartea.eus
SUMMARY:Zetak
DESCRIPTION:Kontzertua \nPello Reparaz Vendetta taldeko kide ohiaren proiektu elektronikoa da Zetak.
URL:https://www.lanartea.eus/agenda/zetak-11/
LOCATION:Doka Kafe Antzokia (Donostia)
CATEGORIES:kontzertua,Musika
END:VEVENT
BEGIN:VEVENT
DTSTART;TZID=Europe/Madrid:20230118T193000
DTEND;TZID=Europe/Madrid:20230118T210000
DTSTAMP:20260424T124125
CREATED:20230111T133305Z
LAST-MODIFIED:20230117T102338Z
UID:8468-1674070200-1674075600@www.lanartea.eus
SUMMARY:'Loreak belaunetan' (BERTAN BEHERA)
DESCRIPTION:Emanaldia + solasaldia \nZer izan nahi duzu handitan? Zaharra da galdera; erantzunak aldatuz joan dira garaiz garai. Handitan artista izan nahi ote zuten Loreak belaunetan. Kulturaren zazpi ahots gazte dokumentaleko zazpi protagonistek? Handiagotan ere kultura egiten eta interpretatzen ikusten al dute euren burua? Beren ametsak\, ekinak eta ezinak aletuz\, gure kultur munduaren nolakoaren eskema eta etorkizuneko erronkena zirriborratu dute denon artean. \nNafarroako Ateneoak antolartu du ekitaldia\, eta\, dokumentala eman ostean\, solasaldia abiaraziko dute Amets Aranguren musikariarekin\, Maddi Ane Txoperena idazle eta bertsolariarekin eta LANARTEA elkartearen koordinatzaile eta filmaren zuzendari den Amagoia Gurrutxagarekin.
URL:https://www.lanartea.eus/agenda/loreak-belaunetan-8/
LOCATION:Kondestable Civivox (Iruñea)
CATEGORIES:Antzerkia,Arte plastikoak,Bertsolaritza,Dokumentala,Ikus-entzunezkoa,Ikus-entzunezkoak,Ilustrazioa,Irudigintza,kontzertua,literatura,Musika,solasaldia,Zinema,Zirkua
ATTACH;FMTTYPE=image/jpeg:https://www.lanartea.eus/wp-content/uploads/2023/01/loreak-belaunetan-fotogramak_3.5.1.jpg
END:VEVENT
BEGIN:VEVENT
DTSTART;TZID=Europe/Madrid:20230118T200000
DTEND;TZID=Europe/Madrid:20230118T210000
DTSTAMP:20260424T124126
CREATED:20230116T142931Z
LAST-MODIFIED:20230116T142931Z
UID:8588-1674072000-1674075600@www.lanartea.eus
SUMMARY:'Lagun beltz asko'
DESCRIPTION:Antzerkia \n\nHemen ez gara arrazistak. Hemen denok ditugu lagun beltz asko. Eta gauza asko entzuten da\, gero eta delinkuentzia gehiago dagoela\, jende horrek lana kenduko digula entzuten da. \nBerandu da. Kalean ez dabil inor. Ixtear doan taberna arrunt batean gertatzen da istorioa. Barruan\, tabernako jabea eta bere lagun hoberena azkena hartzen ari dira. Oso lagun dirudite baina sekretuak eta traizioak ezkutatzen dizkiote batak besteari. Bat-batean\, galduta dagoen migratzaile batek atea jotzen du eta mugikorra kargatzen uztea eskatzen die\, Londresen dagoen alabarekin hitz egin ahal izateko. Mugikorrik gabe ezin du ez alabarekin hitz egin ezta bere bidaiarekin jarraitu ere. \nHorixe da Garbi Losadak idatzi eta zuzendu eta Ados Teatroak ekoitzi duen lanaren abiapuntua. Ramon Ibarra\, Asier Hormaza eta Josu Ormaetxe dira aktore protagonistak.
URL:https://www.lanartea.eus/agenda/lagun-beltz-asko-6/
LOCATION:Gaiarre Antzokia (Iruñea)
CATEGORIES:Antzerkia
END:VEVENT
END:VCALENDAR