BEGIN:VCALENDAR
VERSION:2.0
PRODID:-//Lanartea - ECPv5.14.0.2//NONSGML v1.0//EN
CALSCALE:GREGORIAN
METHOD:PUBLISH
X-WR-CALNAME:Lanartea
X-ORIGINAL-URL:https://www.lanartea.eus
X-WR-CALDESC:Events for Lanartea
REFRESH-INTERVAL;VALUE=DURATION:PT1H
X-Robots-Tag:noindex
X-PUBLISHED-TTL:PT1H
BEGIN:VTIMEZONE
TZID:Europe/Madrid
BEGIN:DAYLIGHT
TZOFFSETFROM:+0100
TZOFFSETTO:+0200
TZNAME:CEST
DTSTART:20230326T010000
END:DAYLIGHT
BEGIN:STANDARD
TZOFFSETFROM:+0200
TZOFFSETTO:+0100
TZNAME:CET
DTSTART:20231029T010000
END:STANDARD
END:VTIMEZONE
BEGIN:VEVENT
DTSTART;TZID=Europe/Madrid:20230113T230000
DTEND;TZID=Europe/Madrid:20230114T003000
DTSTAMP:20260424T124007
CREATED:20230113T101329Z
LAST-MODIFIED:20230113T101329Z
UID:8516-1673650800-1673656200@www.lanartea.eus
SUMMARY:Odei
DESCRIPTION:Kontzertua \n\n\n\n\n\n2zio taldearekin hiru disko kaleratu eta taldea desegin ondoren\, bere bakarkako ibilbideari ekin dio Odei Barroso raperoak Terapia diskoarekin. Lan horrek ez du batere aitzinetik plazaratutako lanen kutsurik. Rapero soil izatetik bere buruarentzako musika ekoizle izatera pasa da ØDEI izenarekin\, eta berak eta Jo Olaskuagak osatzen duten Alkimia Prod-enak dira diskoan dauden musika ekoizpen guztiak.
URL:https://www.lanartea.eus/agenda/odei-8/
LOCATION:Elgoibarko Kultur Etxeko sotoa
CATEGORIES:kontzertua,Musika
END:VEVENT
BEGIN:VEVENT
DTSTART;TZID=Europe/Madrid:20230113T230000
DTEND;TZID=Europe/Madrid:20230114T010000
DTSTAMP:20260424T124007
CREATED:20230113T125746Z
LAST-MODIFIED:20230113T125746Z
UID:8528-1673650800-1673658000@www.lanartea.eus
SUMMARY:Bertsoak Errenterian
DESCRIPTION:Bertso saioa \nArkaHitzak egitasmoa.    Bertsolariak: Maddi Agirre\, Manex Agirre\, Haira Aizpurua Ibargarai\, Kepa Isasi. Gai-jartzailea: Haritz Casabal
URL:https://www.lanartea.eus/agenda/bertsoak-errenterian-4/
LOCATION:Arkaitza Taberna (Errenteria)
CATEGORIES:Bertso saioa,Bertsoak,Bertsolaritza
END:VEVENT
BEGIN:VEVENT
DTSTART;TZID=Europe/Madrid:20230114T120000
DTEND;TZID=Europe/Madrid:20230114T133000
DTSTAMP:20260424T124007
CREATED:20230113T125951Z
LAST-MODIFIED:20230113T125951Z
UID:8530-1673697600-1673703000@www.lanartea.eus
SUMMARY:Bertso derbia Andoainen
DESCRIPTION:Bertso saioa \nEuskalduna futbol taldearen 100. urteurrenean\,  bertsotan arituko dira: Amets Arzallus\, Sustrai Colina\, Aitor Etxebarriazarraga\, Alaia Martin\, Aitor Mendiluze\, Jone Uria Albizuri. Gai-jartzailea: Andoni Egaña
URL:https://www.lanartea.eus/agenda/bertso-derbia-andoainen/
LOCATION:Bastero auditorioa (Andoain)
CATEGORIES:Bertso saioa,Bertsoak,Bertsolaritza
END:VEVENT
BEGIN:VEVENT
DTSTART;TZID=Europe/Madrid:20230114T143000
DTEND;TZID=Europe/Madrid:20230114T173000
DTSTAMP:20260424T124007
CREATED:20230113T130733Z
LAST-MODIFIED:20230113T130733Z
UID:8539-1673706600-1673717400@www.lanartea.eus
SUMMARY:Bertsoak Zekuianon
DESCRIPTION:Bertso bazkaria \nBertsolariak: Andere Arriolabengoa\, Aroa Arrizubieta\, Izar Mendiguren
URL:https://www.lanartea.eus/agenda/bertsoak-zekuianon/
LOCATION:Zekuianoko txokoa
CATEGORIES:Bertso saioa,Bertsoak,Bertsolaritza
END:VEVENT
BEGIN:VEVENT
DTSTART;TZID=Europe/Madrid:20230114T153000
DTEND;TZID=Europe/Madrid:20230114T173000
DTSTAMP:20260424T124007
CREATED:20230113T094748Z
LAST-MODIFIED:20230113T094748Z
UID:8495-1673710200-1673717400@www.lanartea.eus
SUMMARY:Mauleko gazteen maskarada
DESCRIPTION:Herri antzerkia \nMaskaradak talde ekimena dira\, eta aurtengoan Mauleko gazteek hartu dute aurtengo maskarada antolatzeko lana. 30 bat dira\, 13 eta 32 urte artekoak. Horietarik askok Belako Zaldüna pastoralean parte hartu zuten 2018an\, dantzan eta kantuz. Eta esperientzia kolektibo horren ondotik erabaki zuten maskarada prestatzea.\nHilabete luzeetan\, dantza eta kantuak landu dituzte\, eta orain dela hilabete bat\, Gorrien eta Beltzen taldeetan banatu dira. Gaur emango dute lehen aldiz\, eta datozen 14 asteotan Zuberoako hainbat herritan arituko dira.
URL:https://www.lanartea.eus/agenda/mauleko-gazteen-maskarada/
LOCATION:Lextarreko plaza (Maule-Lextarre)
CATEGORIES:Antzerkia,Dantza,Musika
END:VEVENT
BEGIN:VEVENT
DTSTART;TZID=Europe/Madrid:20230114T170000
DTEND;TZID=Europe/Madrid:20230114T183000
DTSTAMP:20260424T124007
CREATED:20230113T130151Z
LAST-MODIFIED:20230113T130151Z
UID:8532-1673715600-1673721000@www.lanartea.eus
SUMMARY:Bertsoak Hendaian
DESCRIPTION:Bertso saioa \nIpar Euskal Herriko Harrera taldearen alde.   Bertsolariak: Amets Arzallus\, Nerea Ibarzabal\, Unai Iturriaga\, Alaia Martin. Gai-jartzailea: Maddalen Arzallus
URL:https://www.lanartea.eus/agenda/bertsoak-hendaian-2/
LOCATION:Gaztelu aretoa (Hendaia)
CATEGORIES:Bertso saioa,Bertsoak,Bertsolaritza
END:VEVENT
BEGIN:VEVENT
DTSTART;TZID=Europe/Madrid:20230114T190000
DTEND;TZID=Europe/Madrid:20230114T200000
DTSTAMP:20260424T124007
CREATED:20230113T093507Z
LAST-MODIFIED:20230113T093507Z
UID:8487-1673722800-1673726400@www.lanartea.eus
SUMMARY:'Hobe ixilik'
DESCRIPTION:Antzerkia \nEmakumea eta gizona. Gizona eta emakumea. Solasean\, zirika\, eztabaidan. Zertaz? Berdin dio. Eguneroko kontuak: gazta-tarta\, patinetea\, almorranak… edo gai potoloak: aldaketa klimatikoa\, politika\, Me Too… \nBaina esan\, dena esan behar al da? Ixiltzea ez al da hobe batzutan? \nBegoña Bilbaok zuzendu du Salome Lelouchen gidoiaren egokitzapen hau\, Txalo Produkzioak-ekin\, eta Itziar Ituño eta Ramon Agirre arituko dira aktore lanetan.
URL:https://www.lanartea.eus/agenda/hobe-ixilik/
LOCATION:Berrizko Kultur Etxea
CATEGORIES:Antzerkia
END:VEVENT
BEGIN:VEVENT
DTSTART;TZID=Europe/Madrid:20230114T190000
DTEND;TZID=Europe/Madrid:20230114T200000
DTSTAMP:20260424T124007
CREATED:20230113T131310Z
LAST-MODIFIED:20230113T131310Z
UID:8545-1673722800-1673726400@www.lanartea.eus
SUMMARY:'eRRe. Aldarri bat bertsoz'
DESCRIPTION:Diziplina arteko emanaldia \nHaizea Arana\, Oihana Arana\, Aner Euzkitze eta Leire Vargas gazteek ondutako ikuskizuna da eRRe. Aldarri bat bertsoz\, bertsolaritza abiapuntu eta marko gisa hartuz antzerkiarekin\, narrazioarekin\, poesiarekin eta musikarekin uztartua. Dikotomien logikan arakatzeko saioa da ikuskizuna\, gizartea antolatzen duten dualismoak abiapuntu hartuta\, genero ikuspegia ardatz:  LGTB+ kolektiboak arauaren baitan hartzen duen lekua\, gazte izatearekin lotutako zapalkuntzak\, botere harremanak… Lankuk ekoitzi du eta Edurne Azkaratek zuzendu.
URL:https://www.lanartea.eus/agenda/erre-aldarri-bat-bertsoz-29/
LOCATION:Ariatza (Muxika)
CATEGORIES:Antzerkia,Bertsolaritza,Feminismoa,literatura,Musika
END:VEVENT
BEGIN:VEVENT
DTSTART;TZID=Europe/Madrid:20230114T190000
DTEND;TZID=Europe/Madrid:20230114T203000
DTSTAMP:20260424T124007
CREATED:20230113T151104Z
LAST-MODIFIED:20230113T151104Z
UID:8549-1673722800-1673728200@www.lanartea.eus
SUMMARY:Trigger
DESCRIPTION:Kontzertua \nEñaut Zubizarreta Mendietak (1992\, Leintz) txelo ikasketa klasikoak jaso ditu\, eta orain dela urte batzuk Trigger izenez hasi zen rocketik eratorritako musikak lantzen\, elektrifikatutako txelo batekin\, gitarra pedalekin.
URL:https://www.lanartea.eus/agenda/trigger-5/
LOCATION:Soreasu Antzokia (Azpeitia)
CATEGORIES:kontzertua,Musika
END:VEVENT
BEGIN:VEVENT
DTSTART;TZID=Europe/Madrid:20230114T193000
DTEND;TZID=Europe/Madrid:20230114T210000
DTSTAMP:20260424T124007
CREATED:20230113T092301Z
LAST-MODIFIED:20230113T092301Z
UID:8477-1673724600-1673730000@www.lanartea.eus
SUMMARY:'Bretxa\, 1813. Donostiako sutea'
DESCRIPTION:Musikala \n1813\, Ingalaterra\, Espainia eta Portugalgo tropek\, aliatuta\, Donostia inguratu dute frantziarrak kanporatzeko asmoz. Hiritar negozioa zaintzen geratu da Marina alabarekin batera. Erabaki hori larrutik ordainduko du\, ordea. Toti Martinez de Lezearen Bretxa lana oinarri hartuta\, Bergara Antzerki Musikala elkarteak emakumearen ikuspuntutik kontatuko du Gipuzkoako Historiaren pasarterik ilunenetakoa. Gertakizun latzak kontatu arren\, Donostiako hiriak berpizteko duen gaitasuna nabarmendu nahi da.
URL:https://www.lanartea.eus/agenda/bretxa-1813-donostiako-sutea-2/
LOCATION:Viktoria Eugenia Antzokia (Donostia)
CATEGORIES:Antzerkia,Musika
END:VEVENT
BEGIN:VEVENT
DTSTART;TZID=Europe/Madrid:20230114T200000
DTEND;TZID=Europe/Madrid:20230114T213000
DTSTAMP:20260424T124007
CREATED:20230113T151527Z
LAST-MODIFIED:20230113T151614Z
UID:8553-1673726400-1673731800@www.lanartea.eus
SUMMARY:Petti & Etxeko Zuta & Et Incarnatus
DESCRIPTION:Kontzertua \nManipulazio estrategiak diskoa aurkezten ari da Petti Euskal Herriko agertokietan. Gaurkoan\, Etxeko Uzta eta Et Incarnatus lagun dituela.
URL:https://www.lanartea.eus/agenda/petti-etxeko-zuta-et-incarnatus/
LOCATION:Barakaldo Antzokia (Barakaldo)
CATEGORIES:kontzertua,Musika
END:VEVENT
BEGIN:VEVENT
DTSTART;TZID=Europe/Madrid:20230114T210000
DTEND;TZID=Europe/Madrid:20230114T233000
DTSTAMP:20260424T124007
CREATED:20230113T130910Z
LAST-MODIFIED:20230113T130910Z
UID:8542-1673730000-1673739000@www.lanartea.eus
SUMMARY:Bertsoak Mallabian
DESCRIPTION:Bertso afaria  \nElkartasun Astea. Bertsolariak: Beñat Gaztelumendi\, Julio Soto
URL:https://www.lanartea.eus/agenda/bertsoak-mallabian-2/
LOCATION:Askalde Elkartea (Mallabia)
CATEGORIES:Bertso saioa,Bertsoak,Bertsolaritza
END:VEVENT
BEGIN:VEVENT
DTSTART;TZID=Europe/Madrid:20230114T220000
DTEND;TZID=Europe/Madrid:20230114T233000
DTSTAMP:20260424T124007
CREATED:20230113T150615Z
LAST-MODIFIED:20230113T150615Z
UID:8547-1673733600-1673739000@www.lanartea.eus
SUMMARY:Belako
DESCRIPTION:Kontzertua \n2011 urtean eman zituzten lehen pausoak Belakok\, eta geroztik ez da agertokitik jeitsi. Post punk eta new wave musika koordenadetan kokatu izan da taldearen jarduna\, eta bere musika bidean hainbat disko kaleratu dituzte. Oraingoz azkena\, 2020 urtean argia ikusi zuen Plastic Drama. Aiakoa emanaldi berezia izango da taldearentzako\, kontzertu hau jo ondoren entsegu lokalean sartuko baita taldea disko berria izango dena grabatzera.
URL:https://www.lanartea.eus/agenda/belako/
LOCATION:Aiako Probalekua
CATEGORIES:kontzertua,Musika
END:VEVENT
BEGIN:VEVENT
DTSTART;TZID=Europe/Madrid:20230114T220000
DTEND;TZID=Europe/Madrid:20230114T233000
DTSTAMP:20260424T124007
CREATED:20230113T151304Z
LAST-MODIFIED:20230113T151304Z
UID:8551-1673733600-1673739000@www.lanartea.eus
SUMMARY:Neomak
DESCRIPTION:Kontzertua \nGaztetxotan hasita\, trikiti txapelketetan aurkari nahiz bikote gisan plazara salto egin eta gerora\, Kepa Junkerarekin Sorgiñak moduan ibiliak dira taldeko kideak. Ahotsak\, trikitia eta panderoa uztartuz aritzen dira agertokian zazpi emakume. Abesti propioez gain\, trikiti tradizionaletik hartutako koplak moldatuta ere kantatzen dituzte.
URL:https://www.lanartea.eus/agenda/neomak-5/
LOCATION:Azpeitiko Sanagustin kulturgunea
CATEGORIES:kontzertua,Musika
END:VEVENT
BEGIN:VEVENT
DTSTART;TZID=Europe/Madrid:20230114T220000
DTEND;TZID=Europe/Madrid:20230114T233000
DTSTAMP:20260424T124007
CREATED:20230113T152101Z
LAST-MODIFIED:20230113T152101Z
UID:8555-1673733600-1673739000@www.lanartea.eus
SUMMARY:Pasadena
DESCRIPTION:Kontzertua \nGartxot Eguneko ekintzen artean emango du kontzertua Pasadenak. Urteak dira Libe Garcia de Kortazar eta Jon Basaguren musikariak elkarren proiektuetan lankidetzan ari direla\, dela Liberen bakarkako diskoetan\, dela Izaki Gardenak taldearen lanetan. Proiektu honetan murgildu ziren 2021ean.
URL:https://www.lanartea.eus/agenda/pasadena-8/
LOCATION:Itzaltsu
CATEGORIES:kontzertua,Musika
END:VEVENT
BEGIN:VEVENT
DTSTART;TZID=Europe/Madrid:20230114T223000
DTEND;TZID=Europe/Madrid:20230114T235900
DTSTAMP:20260424T124007
CREATED:20230113T152614Z
LAST-MODIFIED:20230113T152645Z
UID:8558-1673735400-1673740740@www.lanartea.eus
SUMMARY:Amorante
DESCRIPTION:Kontzertua \nIban Urizar musikari elgoibartarraren proiektua da Amorante\, eta one man band bezala ezagutzen den formatoan aritzen da: bakarlari gisa\, musika-tresna desberdinekin eta looperrarekin zuzenean sortuz. Bere musikak aspaldiko oihartzunak dakartza\, baina gaur egungo haizea darabil bere buru\, eztarri eta ezpainetan.
URL:https://www.lanartea.eus/agenda/amorante/
LOCATION:Atekabeltz gaztetxea (Leitza)
CATEGORIES:kontzertua,Musika
END:VEVENT
END:VCALENDAR