BEGIN:VCALENDAR
VERSION:2.0
PRODID:-//Lanartea - ECPv5.14.0.2//NONSGML v1.0//EN
CALSCALE:GREGORIAN
METHOD:PUBLISH
X-WR-CALNAME:Lanartea
X-ORIGINAL-URL:https://www.lanartea.eus
X-WR-CALDESC:Events for Lanartea
REFRESH-INTERVAL;VALUE=DURATION:PT1H
X-Robots-Tag:noindex
X-PUBLISHED-TTL:PT1H
BEGIN:VTIMEZONE
TZID:Europe/Madrid
BEGIN:DAYLIGHT
TZOFFSETFROM:+0100
TZOFFSETTO:+0200
TZNAME:CEST
DTSTART:20230326T010000
END:DAYLIGHT
BEGIN:STANDARD
TZOFFSETFROM:+0200
TZOFFSETTO:+0100
TZNAME:CET
DTSTART:20231029T010000
END:STANDARD
END:VTIMEZONE
BEGIN:VEVENT
DTSTART;TZID=Europe/Madrid:20230111T190000
DTEND;TZID=Europe/Madrid:20230111T200000
DTSTAMP:20260422T125425
CREATED:20230103T145231Z
LAST-MODIFIED:20230103T145231Z
UID:8416-1673463600-1673467200@www.lanartea.eus
SUMMARY:'Hobe ixilik' (aurrestreinaldia)
DESCRIPTION:Antzerkia \nEmakumea eta gizona. Gizona eta emakumea. Solasean\, zirika\, eztabaidan. Zertaz? Berdin dio. Eguneroko kontuak: gazta-tarta\, patinetea\, almorranak… edo gai potoloak: aldaketa klimatikoa\, politika\, Me Too… \nBaina esan\, dena esan behar al da? Ixiltzea ez al da hobe batzutan? \nBegoña Bilbaok zuzendu du Salome Lelouchen gidoiaren egokitzapen hau\, Txalo Produkzioak-ekin\, eta Itziar Ituño eta Ramon Agirre arituko dira aktore lanetan.
URL:https://www.lanartea.eus/agenda/hobe-ixilik-aurrestreinaldia/
LOCATION:Sarobe arte eszenikoen gunea (Urnieta)
CATEGORIES:Antzerkia
END:VEVENT
END:VCALENDAR