BEGIN:VCALENDAR
VERSION:2.0
PRODID:-//Lanartea - ECPv5.14.0.2//NONSGML v1.0//EN
CALSCALE:GREGORIAN
METHOD:PUBLISH
X-WR-CALNAME:Lanartea
X-ORIGINAL-URL:https://www.lanartea.eus
X-WR-CALDESC:Events for Lanartea
REFRESH-INTERVAL;VALUE=DURATION:PT1H
X-Robots-Tag:noindex
X-PUBLISHED-TTL:PT1H
BEGIN:VTIMEZONE
TZID:Europe/Madrid
BEGIN:DAYLIGHT
TZOFFSETFROM:+0100
TZOFFSETTO:+0200
TZNAME:CEST
DTSTART:20230326T010000
END:DAYLIGHT
BEGIN:STANDARD
TZOFFSETFROM:+0200
TZOFFSETTO:+0100
TZNAME:CET
DTSTART:20231029T010000
END:STANDARD
END:VTIMEZONE
BEGIN:VEVENT
DTSTART;TZID=Europe/Madrid:20230110T190000
DTEND;TZID=Europe/Madrid:20230110T200000
DTSTAMP:20260424T160124
CREATED:20230103T155206Z
LAST-MODIFIED:20230103T155206Z
UID:8445-1673377200-1673380800@www.lanartea.eus
SUMMARY:'Ni ez naiz Mikel Laboa'
DESCRIPTION:Solasaldia \nIgor Leturiak aurkeztuko du Ni ez naiz Mikel Laboa komikia egin duten Harkaitz Canoren\, Unai Iturriagaren eta Joseba Larratxe Joseviskyren arteko solasaldia.
URL:https://www.lanartea.eus/agenda/ni-ez-naiz-mikel-laboa/
LOCATION:Intxaurrondoko Kultur Etxea (Donostia)
CATEGORIES:Komikia,solasaldia
END:VEVENT
BEGIN:VEVENT
DTSTART;TZID=Europe/Madrid:20230110T193000
DTEND;TZID=Europe/Madrid:20230110T203000
DTSTAMP:20260424T160124
CREATED:20230103T144612Z
LAST-MODIFIED:20230103T144612Z
UID:8413-1673379000-1673382600@www.lanartea.eus
SUMMARY:'Ez naiz inoiz Dublinen egon'
DESCRIPTION:Antzerkia \n\nAmesti familia Eguberri gaua ospatzeko bildu da\, baina aurtengoa berezia da. Elena\, hiru urtez ikusi ez duten alaba gaztea\, Londresetik itzuli da azkenean. Baina ez dator bakarrik\, Cindyrekin dator\, bere neska-lagun irlandarrarekin.  \nDenak daude desiratzen irlandarra ezagutzeko\, baina inork ez du espero Cindy pertsonai ikusezin bat izatea\, familia honen oreka hankaz gora jarriko duen Elenaren fantasia bat. Atetik sartzen den momentuan\, pertsona bitxi hau onartu ala ez erabaki beharko dute. \nTentazioa konpainiak ekoitzi du Markos Goikolearen obra hau\, eta Mireia Gabilondok zuzendu. Aktore lanetan arituko dira: Iñigo Aranburu\, Iñigo Azpitarte\, Mireia Gabilondo eta Aitziber Garmendia.
URL:https://www.lanartea.eus/agenda/ez-naiz-inoiz-dublinen-egon-2/
LOCATION:Arriaga Antzokia (Bilbo)
CATEGORIES:Antzerkia
ATTACH;FMTTYPE=image/jpeg:https://www.lanartea.eus/wp-content/uploads/2023/01/tentazioa-dublin-3.jpg
END:VEVENT
END:VCALENDAR