BEGIN:VCALENDAR
VERSION:2.0
PRODID:-//Lanartea - ECPv5.14.0.2//NONSGML v1.0//EN
CALSCALE:GREGORIAN
METHOD:PUBLISH
X-WR-CALNAME:Lanartea
X-ORIGINAL-URL:https://www.lanartea.eus
X-WR-CALDESC:Events for Lanartea
REFRESH-INTERVAL;VALUE=DURATION:PT1H
X-Robots-Tag:noindex
X-PUBLISHED-TTL:PT1H
BEGIN:VTIMEZONE
TZID:Europe/Madrid
BEGIN:DAYLIGHT
TZOFFSETFROM:+0100
TZOFFSETTO:+0200
TZNAME:CEST
DTSTART:20230326T010000
END:DAYLIGHT
BEGIN:STANDARD
TZOFFSETFROM:+0200
TZOFFSETTO:+0100
TZNAME:CET
DTSTART:20231029T010000
END:STANDARD
END:VTIMEZONE
BEGIN:VEVENT
DTSTART;TZID=Europe/Madrid:20230105T193000
DTEND;TZID=Europe/Madrid:20230105T210000
DTSTAMP:20260424T161747
CREATED:20230103T160155Z
LAST-MODIFIED:20230103T160155Z
UID:8459-1672947000-1672952400@www.lanartea.eus
SUMMARY:Bertsoak Markina-Xemeinen
DESCRIPTION:Bertso poteoa \nBertsolariak: Aroa Arrizubieta\, Aitor Bizkarra\, Oihane Perea
URL:https://www.lanartea.eus/agenda/bertsoak-markina-xemeinen-4/
LOCATION:Babbel tabernatik asita (Markina-Xemein)
CATEGORIES:Bertsoak,Bertsolaritza
END:VEVENT
BEGIN:VEVENT
DTSTART;TZID=Europe/Madrid:20230105T213000
DTEND;TZID=Europe/Madrid:20230105T230000
DTSTAMP:20260424T161747
CREATED:20230103T153821Z
LAST-MODIFIED:20230103T153821Z
UID:8437-1672954200-1672959600@www.lanartea.eus
SUMMARY:Arima Soul
DESCRIPTION:Kontzertua \nLidia Insaustik (ahotsa) eta Mikel Makalak (baxua) sortutako soul musikako proiektua da Arima Soul. Geroago Paul San Martin (teklatuak) eta Hilario Rodeiro (bateria) gehitu ziren. 70eko hamarkadako rhythm & blues\, soul\, funk\, groove eta jazz taldeen eragin argia du\, baina neo-soul korronteari ere begiratzen dio.
URL:https://www.lanartea.eus/agenda/arima-soul-5/
LOCATION:Altxerri Jazz Bar (Donostia)
CATEGORIES:kontzertua,Musika
END:VEVENT
BEGIN:VEVENT
DTSTART;TZID=Europe/Madrid:20230105T223000
DTEND;TZID=Europe/Madrid:20230105T235900
DTSTAMP:20260424T161747
CREATED:20230103T160042Z
LAST-MODIFIED:20230103T160042Z
UID:8457-1672957800-1672963140@www.lanartea.eus
SUMMARY:Bertsoak Oñatin
DESCRIPTION:Jaialdia   \nBertsolariak: Amets Arzallus\, Sustrai Colina\, Beñat Gaztelumendi\, Maialen Lujanbio\, Alaia Martin\, Aitor Mendiluze.
URL:https://www.lanartea.eus/agenda/bertsoak-onatin-4/
CATEGORIES:Bertso saioa,Bertsoak,Bertsolaritza
END:VEVENT
END:VCALENDAR