BEGIN:VCALENDAR
VERSION:2.0
PRODID:-//Lanartea - ECPv5.14.0.2//NONSGML v1.0//EN
CALSCALE:GREGORIAN
METHOD:PUBLISH
X-WR-CALNAME:Lanartea
X-ORIGINAL-URL:https://www.lanartea.eus
X-WR-CALDESC:Events for Lanartea
REFRESH-INTERVAL;VALUE=DURATION:PT1H
X-Robots-Tag:noindex
X-PUBLISHED-TTL:PT1H
BEGIN:VTIMEZONE
TZID:Europe/Madrid
BEGIN:DAYLIGHT
TZOFFSETFROM:+0100
TZOFFSETTO:+0200
TZNAME:CEST
DTSTART:20230326T010000
END:DAYLIGHT
BEGIN:STANDARD
TZOFFSETFROM:+0200
TZOFFSETTO:+0100
TZNAME:CET
DTSTART:20231029T010000
END:STANDARD
END:VTIMEZONE
BEGIN:VEVENT
DTSTART;TZID=Europe/Madrid:20230102T200000
DTEND;TZID=Europe/Madrid:20230102T213000
DTSTAMP:20260424T124938
CREATED:20221226T085513Z
LAST-MODIFIED:20221226T085513Z
UID:8340-1672689600-1672695000@www.lanartea.eus
SUMMARY:Eñaut Elorrieta
DESCRIPTION:Kontzertua \nFantasia deitzen da Eñaut Elorrietaren disko berria. Azken bi urteetan egindako lanaren emaitza da\, maitasuna hari duten kantu soil\, bare eta ederrak biltzen ditu. Kantu guztiak artista gernikarrak konposatuak dira.
URL:https://www.lanartea.eus/agenda/enaut-elorrieta-6/
LOCATION:Bastero auditorioa (Andoain)
CATEGORIES:kontzertua,Musika
END:VEVENT
END:VCALENDAR