BEGIN:VCALENDAR
VERSION:2.0
PRODID:-//Lanartea - ECPv5.14.0.2//NONSGML v1.0//EN
CALSCALE:GREGORIAN
METHOD:PUBLISH
X-WR-CALNAME:Lanartea
X-ORIGINAL-URL:https://www.lanartea.eus
X-WR-CALDESC:Events for Lanartea
REFRESH-INTERVAL;VALUE=DURATION:PT1H
X-Robots-Tag:noindex
X-PUBLISHED-TTL:PT1H
BEGIN:VTIMEZONE
TZID:Europe/Madrid
BEGIN:DAYLIGHT
TZOFFSETFROM:+0100
TZOFFSETTO:+0200
TZNAME:CEST
DTSTART:20220327T010000
END:DAYLIGHT
BEGIN:STANDARD
TZOFFSETFROM:+0200
TZOFFSETTO:+0100
TZNAME:CET
DTSTART:20221030T010000
END:STANDARD
END:VTIMEZONE
BEGIN:VEVENT
DTSTART;TZID=Europe/Madrid:20221229T190000
DTEND;TZID=Europe/Madrid:20221229T203000
DTSTAMP:20260420T020938
CREATED:20221226T092835Z
LAST-MODIFIED:20221226T092835Z
UID:8371-1672340400-1672345800@www.lanartea.eus
SUMMARY:'Ia finalisten saioa'
DESCRIPTION:Bertso jaialdia \nBertsolariak: Miren Artetxe\, Maddalen Arzallus\, Agin Laburu\, Julio Soto. Gai-jartzailea: Unai Elizasu
URL:https://www.lanartea.eus/agenda/ia-finalisten-saioa/
LOCATION:Doka Kafe Antzokia (Donostia)
CATEGORIES:Bertso saioa,Bertsoak,Bertsolaritza
END:VEVENT
BEGIN:VEVENT
DTSTART;TZID=Europe/Madrid:20221229T190000
DTEND;TZID=Europe/Madrid:20221229T203000
DTSTAMP:20260420T020938
CREATED:20221226T094729Z
LAST-MODIFIED:20221226T094729Z
UID:8399-1672340400-1672345800@www.lanartea.eus
SUMMARY:Bertsoak Aretxabaletan
DESCRIPTION:Bertso saioa \nBertsolariak: Uxue Alberdi\, Andoni Egaña\, Igor Elortza\, Ane Labaka Mayoz. Gai-jartzailea: Olatz Zuazubiskar
URL:https://www.lanartea.eus/agenda/bertsoak-aretxabaletan-3/
LOCATION:Zeraia Aretoa (Aretxabaleta)
CATEGORIES:Bertso saioa,Bertsoak,Bertsolaritza
END:VEVENT
BEGIN:VEVENT
DTSTART;TZID=Europe/Madrid:20221229T193000
DTEND;TZID=Europe/Madrid:20221229T203000
DTSTAMP:20260420T020938
CREATED:20221226T092648Z
LAST-MODIFIED:20221226T092648Z
UID:8369-1672342200-1672345800@www.lanartea.eus
SUMMARY:'eRRe. Aldarri bat bertsoz'
DESCRIPTION:Diziplina arteko emanaldia \nHaizea Arana\, Oihana Arana\, Aner Euzkitze eta Leire Vargas gazteek ondutako ikuskizuna da eRRe. Aldarri bat bertsoz\, bertsolaritza abiapuntu eta marko gisa hartuz antzerkiarekin\, narrazioarekin\, poesiarekin eta musikarekin uztartua. Dikotomien logikan arakatzeko saioa da ikuskizuna\, gizartea antolatzen duten dualismoak abiapuntu hartuta\, genero ikuspegia ardatz:  LGTB+ kolektiboak arauaren baitan hartzen duen lekua\, gazte izatearekin lotutako zapalkuntzak\, botere harremanak… Lankuk ekoitzi du eta Edurne Azkaratek zuzendu.
URL:https://www.lanartea.eus/agenda/erre-aldarri-bat-bertsoz-27/
LOCATION:Biteri Kultur Etxea (Hernani)
CATEGORIES:Antzerkia,Bertsolaritza,Feminismoa
END:VEVENT
BEGIN:VEVENT
DTSTART;TZID=Europe/Madrid:20221229T193000
DTEND;TZID=Europe/Madrid:20221229T210000
DTSTAMP:20260420T020938
CREATED:20221226T093111Z
LAST-MODIFIED:20221226T093111Z
UID:8373-1672342200-1672347600@www.lanartea.eus
SUMMARY:Bertsoak Bilbon
DESCRIPTION:Saio berezia \nBertso saio feminista.  Bertsolariak: Miren Amuriza\, Onintza Enbeita. Gai-jartzailea: Josune Muñoz. Antolatzailea: Hika Ateneo Elkartea.
URL:https://www.lanartea.eus/agenda/bertsoak-bilbon-17/
LOCATION:Hika Ateneo (Atxuri\, Bilbo)
CATEGORIES:Bertso saioa,Bertsoak,Bertsolaritza
END:VEVENT
BEGIN:VEVENT
DTSTART;TZID=Europe/Madrid:20221229T200000
DTEND;TZID=Europe/Madrid:20221229T213000
DTSTAMP:20260420T020938
CREATED:20221226T094621Z
LAST-MODIFIED:20221226T094621Z
UID:8395-1672344000-1672349400@www.lanartea.eus
SUMMARY:Bertsoak Ondarroan
DESCRIPTION:Bertso poteoa \nBertsolariak: Txaber Altube\, Aitor Bizkarra\, Gorka Pagonabarraga
URL:https://www.lanartea.eus/agenda/bertsoak-ondarroan-4/
LOCATION:Musika eskolatik abiatuta (Ondarroa)
CATEGORIES:Bertsoak,Bertsolaritza
END:VEVENT
BEGIN:VEVENT
DTSTART;TZID=Europe/Madrid:20221229T213000
DTEND;TZID=Europe/Madrid:20221229T230000
DTSTAMP:20260420T020938
CREATED:20221226T091712Z
LAST-MODIFIED:20221226T091712Z
UID:8359-1672349400-1672354800@www.lanartea.eus
SUMMARY:Ruper Ordorika
DESCRIPTION:Kontzertua \nAmour eta toujours diskoa aurkeztuko du musikariak\, bere banda lagun. Sarrerak agortuta daude.
URL:https://www.lanartea.eus/agenda/ruper-ordorika-11/
LOCATION:Bilboko Kafe Antzokia
CATEGORIES:kontzertua,Musika
END:VEVENT
BEGIN:VEVENT
DTSTART;TZID=Europe/Madrid:20221229T220000
DTEND;TZID=Europe/Madrid:20221229T233000
DTSTAMP:20260420T020938
CREATED:20221226T091416Z
LAST-MODIFIED:20221226T091416Z
UID:8356-1672351200-1672356600@www.lanartea.eus
SUMMARY:MICE
DESCRIPTION:Kontzertua \nMiren Narbaiza MICE lan berria aurkezteko biran dabil. Lautada izena du lan horrek\, eta Arabako paisaiari eta han begi-bistan gelditu zaizkionei estu lotuta ondu du lana\, Joseba Baleztenarekin batera sortu duen Gakobeltz estudioan.
URL:https://www.lanartea.eus/agenda/mice-8/
LOCATION:Burugorri Aretoa (Itziar)
CATEGORIES:kontzertua,Musika
END:VEVENT
END:VCALENDAR