BEGIN:VCALENDAR
VERSION:2.0
PRODID:-//Lanartea - ECPv5.14.0.2//NONSGML v1.0//EN
CALSCALE:GREGORIAN
METHOD:PUBLISH
X-WR-CALNAME:Lanartea
X-ORIGINAL-URL:https://www.lanartea.eus
X-WR-CALDESC:Events for Lanartea
REFRESH-INTERVAL;VALUE=DURATION:PT1H
X-Robots-Tag:noindex
X-PUBLISHED-TTL:PT1H
BEGIN:VTIMEZONE
TZID:Europe/Madrid
BEGIN:DAYLIGHT
TZOFFSETFROM:+0100
TZOFFSETTO:+0200
TZNAME:CEST
DTSTART:20220327T010000
END:DAYLIGHT
BEGIN:STANDARD
TZOFFSETFROM:+0200
TZOFFSETTO:+0100
TZNAME:CET
DTSTART:20221030T010000
END:STANDARD
END:VTIMEZONE
BEGIN:VEVENT
DTSTART;TZID=Europe/Madrid:20221228T173000
DTEND;TZID=Europe/Madrid:20221228T183000
DTSTAMP:20260420T035531
CREATED:20221226T084915Z
LAST-MODIFIED:20221226T084915Z
UID:8334-1672248600-1672252200@www.lanartea.eus
SUMMARY:'Herriye'
DESCRIPTION:Antzerkia \nAntzerkiak behingoagatik konpromiso zibiko maila handia eskatzen dio azpeitiar bakoitzari herritar gisa: lehenbizi izan azpeitiar\, eta ondoren beste guztia. Jayo. Azpeitiye. Hill. \nHerriak herriari eman behar dio arnasa\, eta herritik hartu. Azpeitiarentzat hil ala biziko kontu bat ebatzi behar dute Sanagustinen. \nAzpeitiko Euskal Antzerki Topaketen 40. urteurrenaren harira herriko antzerki taldeak prestatutako obra.
URL:https://www.lanartea.eus/agenda/herriye-4/
LOCATION:Azpeitiko Sanagustin kulturgunea
CATEGORIES:Antzerkia
ATTACH;FMTTYPE=image/jpeg:https://www.lanartea.eus/wp-content/uploads/2022/10/herriye-argazkia-5-scaled-1.jpg
END:VEVENT
BEGIN:VEVENT
DTSTART;TZID=Europe/Madrid:20221228T190000
DTEND;TZID=Europe/Madrid:20221228T200000
DTSTAMP:20260420T035531
CREATED:20221226T084506Z
LAST-MODIFIED:20221226T084506Z
UID:8330-1672254000-1672257600@www.lanartea.eus
SUMMARY:'Gari eta goroldiozko'
DESCRIPTION:Liburu aurkezpena \nAnari Alberdi musikari eta idazleak bere lehen liburua aurkeztuko du.
URL:https://www.lanartea.eus/agenda/gari-eta-goroldiozko/
LOCATION:Katakrak (Iruñea)
CATEGORIES:aurkezpenak,literatura
END:VEVENT
BEGIN:VEVENT
DTSTART;TZID=Europe/Madrid:20221228T193000
DTEND;TZID=Europe/Madrid:20221228T210000
DTSTAMP:20260420T035531
CREATED:20221226T091842Z
LAST-MODIFIED:20221226T091842Z
UID:8361-1672255800-1672261200@www.lanartea.eus
SUMMARY:'Kantu bat gara'
DESCRIPTION:Kontzertua \nJon Maiak kontzertu berezi eta solidario bat eskainiko du hainbat gonbidatu berezirekin Kantu bat gara bere emankizun arrakastatsuaren lehenengo urteurrenean.
URL:https://www.lanartea.eus/agenda/kantu-bat-gara-3/
LOCATION:Kursaala (Donostia)
CATEGORIES:kontzertua,Musika
END:VEVENT
BEGIN:VEVENT
DTSTART;TZID=Europe/Madrid:20221228T200000
DTEND;TZID=Europe/Madrid:20221228T213000
DTSTAMP:20260420T035531
CREATED:20221222T153937Z
LAST-MODIFIED:20221222T153937Z
UID:8297-1672257600-1672263000@www.lanartea.eus
SUMMARY:Bertsoak Elgoibarren
DESCRIPTION:Jaialdia   \nBertsolariak: Aitor Bizkarra\, Sustrai Colina\, Maialen Lujanbio\, Alaia Martin\, Jone Uria Albizuri. Gai-jartzailea: Imanol Artola Felix
URL:https://www.lanartea.eus/agenda/bertsoak-elgoibarren-4/
LOCATION:Elgoibarko Herri Antzokia
CATEGORIES:Bertso saioa,Bertsoak,Bertsolaritza
END:VEVENT
END:VCALENDAR