BEGIN:VCALENDAR
VERSION:2.0
PRODID:-//Lanartea - ECPv5.14.0.2//NONSGML v1.0//EN
CALSCALE:GREGORIAN
METHOD:PUBLISH
X-WR-CALNAME:Lanartea
X-ORIGINAL-URL:https://www.lanartea.eus
X-WR-CALDESC:Events for Lanartea
REFRESH-INTERVAL;VALUE=DURATION:PT1H
X-Robots-Tag:noindex
X-PUBLISHED-TTL:PT1H
BEGIN:VTIMEZONE
TZID:Europe/Madrid
BEGIN:DAYLIGHT
TZOFFSETFROM:+0100
TZOFFSETTO:+0200
TZNAME:CEST
DTSTART:20220327T010000
END:DAYLIGHT
BEGIN:STANDARD
TZOFFSETFROM:+0200
TZOFFSETTO:+0100
TZNAME:CET
DTSTART:20221030T010000
END:STANDARD
END:VTIMEZONE
BEGIN:VEVENT
DTSTART;TZID=Europe/Madrid:20221227T180000
DTEND;TZID=Europe/Madrid:20221227T193000
DTSTAMP:20260424T124945
CREATED:20221222T152928Z
LAST-MODIFIED:20221222T152928Z
UID:8292-1672164000-1672169400@www.lanartea.eus
SUMMARY:Bertsoak Getxon
DESCRIPTION:Jaialdia  \nBertsolariak: Amets Arzallus\, Sustrai Colina\, Joanes Illarregi\, Maialen Lujanbio\, Alaia Martin\, Aitor Mendiluze. Gai-jartzailea: Maider Barañano
URL:https://www.lanartea.eus/agenda/bertsoak-getxon-10/
LOCATION:Muxikebarri Antzokia (Algorta\, Getxo)
CATEGORIES:Bertso saioa,Bertsoak,Bertsolaritza
END:VEVENT
BEGIN:VEVENT
DTSTART;TZID=Europe/Madrid:20221227T190000
DTEND;TZID=Europe/Madrid:20221227T203000
DTSTAMP:20260424T124945
CREATED:20221222T153348Z
LAST-MODIFIED:20221222T153348Z
UID:8294-1672167600-1672173000@www.lanartea.eus
SUMMARY:Bertsoak Eibarren
DESCRIPTION:Jaialdia \nEzdok 2. gabon bertso saioa.  Bertsolariak: Aner Euzkitze\, Igor Galarza\, Oihana Iguaran. Gai-jartzailea: Maialen Bergara
URL:https://www.lanartea.eus/agenda/bertsoak-eibarren-4/
LOCATION:Zaizoi taberna (Eibar)
CATEGORIES:Bertso saioa,Bertsoak,Bertsolaritza
END:VEVENT
BEGIN:VEVENT
DTSTART;TZID=Europe/Madrid:20221227T193000
DTEND;TZID=Europe/Madrid:20221227T203000
DTSTAMP:20260424T124945
CREATED:20221226T083541Z
LAST-MODIFIED:20221226T083541Z
UID:8324-1672169400-1672173000@www.lanartea.eus
SUMMARY:'Belar hostoak'
DESCRIPTION:Errezitaldi musikatua \nAmaia Lasa poetak errezitatuko ditu testuak\, Dani Venegas\, Andoni Etxebeste\, Antxon Sarasua\, Jon Gurrutxaga\, Urbil Artola musikarien laguntzarekin.
URL:https://www.lanartea.eus/agenda/belar-hostoak/
LOCATION:Iturzaeta aretoa (Getaria)
CATEGORIES:Errezitaldia,literatura,Musika,Poesia
END:VEVENT
BEGIN:VEVENT
DTSTART;TZID=Europe/Madrid:20221227T193000
DTEND;TZID=Europe/Madrid:20221227T210000
DTSTAMP:20260424T124945
CREATED:20221226T092145Z
LAST-MODIFIED:20221226T092145Z
UID:8366-1672169400-1672174800@www.lanartea.eus
SUMMARY:'Euskal Danbolinaren Aroak'
DESCRIPTION:Musika saio pedagogikoa \nAldarrikapen historikoa eta soinu esperimentazio garaikidea eskaintzen dituzte aldi berean Joserra Senperenak eta Piter Ansorenak Euskal Danbolinaren Aroak emanaldian. Izen bereko diskoa argitaratua daukate\, eta esperientziaren eta jakituriaren isla da disko horretako aniztasun koloretsua eta emari oparoa.
URL:https://www.lanartea.eus/agenda/euskal-danbolinaren-aroak-3/
LOCATION:San Nikolas eliza (Orio)
CATEGORIES:kontzertua,Musika
END:VEVENT
BEGIN:VEVENT
DTSTART;TZID=Europe/Madrid:20221227T200000
DTEND;TZID=Europe/Madrid:20221227T213000
DTSTAMP:20260424T124945
CREATED:20221226T092015Z
LAST-MODIFIED:20221226T092015Z
UID:8363-1672171200-1672176600@www.lanartea.eus
SUMMARY:Olatz Salvador
DESCRIPTION:Kontzertua \nEmanaldian\, Idoia Asurmendi eta Miren Narbaiza abeslarien\, Izaki Gardenak taldeko buru Jon Basagurenen\, Haizeatxo taldearen eta Karmele Jaio idazlearen laguntza berezia izango du.
URL:https://www.lanartea.eus/agenda/olatz-salvador-8/
LOCATION:Vital Fundazioa (Gasteiz)
CATEGORIES:kontzertua,Musika
END:VEVENT
BEGIN:VEVENT
DTSTART;TZID=Europe/Madrid:20221227T203000
DTEND;TZID=Europe/Madrid:20221227T213000
DTSTAMP:20260424T124945
CREATED:20221226T084738Z
LAST-MODIFIED:20221226T084738Z
UID:8332-1672173000-1672176600@www.lanartea.eus
SUMMARY:'Algarapola'
DESCRIPTION:Bakarrizketa sorta \nIker Plazaola\, Antton Telleria\, Ana Goitia eta Julen Portillo\, bakoityza bere bakarrizketarekin.
URL:https://www.lanartea.eus/agenda/algarapola/
LOCATION:Arrano Taberna (Zarautz)
CATEGORIES:Antzerkia,Bakarrizketa
END:VEVENT
END:VCALENDAR